BEGIN:VCALENDAR
VERSION:2.0
PRODID:-//Maison de Quartier La Bellangerais - ECPv6.15.20//NONSGML v1.0//EN
CALSCALE:GREGORIAN
METHOD:PUBLISH
X-WR-CALNAME:Maison de Quartier La Bellangerais
X-ORIGINAL-URL:https://www.labellangerais.org
X-WR-CALDESC:Évènements pour Maison de Quartier La Bellangerais
REFRESH-INTERVAL;VALUE=DURATION:PT1H
X-Robots-Tag:noindex
X-PUBLISHED-TTL:PT1H
BEGIN:VTIMEZONE
TZID:Europe/Paris
BEGIN:DAYLIGHT
TZOFFSETFROM:+0100
TZOFFSETTO:+0200
TZNAME:CEST
DTSTART:20230326T010000
END:DAYLIGHT
BEGIN:STANDARD
TZOFFSETFROM:+0200
TZOFFSETTO:+0100
TZNAME:CET
DTSTART:20231029T010000
END:STANDARD
BEGIN:DAYLIGHT
TZOFFSETFROM:+0100
TZOFFSETTO:+0200
TZNAME:CEST
DTSTART:20240331T010000
END:DAYLIGHT
BEGIN:STANDARD
TZOFFSETFROM:+0200
TZOFFSETTO:+0100
TZNAME:CET
DTSTART:20241027T010000
END:STANDARD
BEGIN:DAYLIGHT
TZOFFSETFROM:+0100
TZOFFSETTO:+0200
TZNAME:CEST
DTSTART:20250330T010000
END:DAYLIGHT
BEGIN:STANDARD
TZOFFSETFROM:+0200
TZOFFSETTO:+0100
TZNAME:CET
DTSTART:20251026T010000
END:STANDARD
BEGIN:DAYLIGHT
TZOFFSETFROM:+0100
TZOFFSETTO:+0200
TZNAME:CEST
DTSTART:20260329T010000
END:DAYLIGHT
BEGIN:STANDARD
TZOFFSETFROM:+0200
TZOFFSETTO:+0100
TZNAME:CET
DTSTART:20261025T010000
END:STANDARD
END:VTIMEZONE
BEGIN:VEVENT
DTSTART;TZID=Europe/Paris:20250320T143000
DTEND;TZID=Europe/Paris:20250320T160000
DTSTAMP:20260425T012709
CREATED:20250219T134855Z
LAST-MODIFIED:20250219T134855Z
UID:21033-1742481000-1742486400@www.labellangerais.org
SUMMARY:Opération tranquillité aînés
DESCRIPTION:Une réunion d’information sur la sécurité animée par les délégués cohésion police-population. \nGratuit et sans inscription\, venez nombreux !
URL:https://www.labellangerais.org/evenement/operation-tranquillite-aines/
LOCATION:Maison de Quartier la Bellangerais\, 5 rue du Morbihan\, Rennes\, 35700
CATEGORIES:Seniors
ATTACH;FMTTYPE=image/jpeg:https://www.labellangerais.org/wp-content/uploads/2025/02/2025-03-20-Tranquillite-seniors.jpg
END:VEVENT
BEGIN:VEVENT
DTSTART;TZID=Europe/Paris:20250318T140000
DTEND;TZID=Europe/Paris:20250318T160000
DTSTAMP:20260425T012709
CREATED:20250219T134050Z
LAST-MODIFIED:20250219T135020Z
UID:21030-1742306400-1742313600@www.labellangerais.org
SUMMARY:Réunion d'information secteur senior
DESCRIPTION:Vous avez 60 ans et plus\, habitez la Bellangerais ou fréquentez la Maison de Quartier ? \nRejoignez-nous pour partager un moment convivial et échanger ensemble sur vos souhaits pour la Maison de quartier ! \nVenez avec vos idées et votre bonne humeur ! \nAvec la participation de l’OPAR.
URL:https://www.labellangerais.org/evenement/reunion-dinformation-secteur-senior/
LOCATION:Maison de Quartier la Bellangerais\, 5 rue du Morbihan\, Rennes\, 35700
CATEGORIES:Seniors
ATTACH;FMTTYPE=image/png:https://www.labellangerais.org/wp-content/uploads/2025/02/2025-03-18-reunion-secteur-senior.png
ORGANIZER;CN="MQB":MAILTO:contact@labellangerais.org
END:VEVENT
BEGIN:VEVENT
DTSTART;TZID=Europe/Paris:20241125T140000
DTEND;TZID=Europe/Paris:20241125T180000
DTSTAMP:20260425T012709
CREATED:20241107T143131Z
LAST-MODIFIED:20241107T143242Z
UID:20847-1732543200-1732557600@www.labellangerais.org
SUMMARY:Ateliers numériques niveau intermédiaire - Accueil Libre
DESCRIPTION:L’Espace public numérique de la Maison de Quartier de la Bellangerais met en place de nouveaux ateliers numériques collectifs de niveau intermédiaire animés par Robert ! \nPour découvrir les sujets qui pourront être abordés durant ces ateliers\, nous vous proposons deux temps d’ accueil libre avec notre bénévole les lundis 18 et 25 novembre de 14h à 18h. \nVenez échanger avec lui de vos attentes et de vos envies pour consolider vos connaissances en numérique !
URL:https://www.labellangerais.org/evenement/ateliers-numeriques-niveau-intermediaires-accueil-libre-2/
LOCATION:Maison de Quartier la Bellangerais\, 5 rue du Morbihan\, Rennes\, 35700
CATEGORIES:Espace Numérique
ATTACH;FMTTYPE=image/png:https://www.labellangerais.org/wp-content/uploads/2024/11/2.png
ORGANIZER;CN="MQB":MAILTO:contact@labellangerais.org
END:VEVENT
BEGIN:VEVENT
DTSTART;TZID=Europe/Paris:20241121T180000
DTEND;TZID=Europe/Paris:20241121T200000
DTSTAMP:20260425T012709
CREATED:20241107T150230Z
LAST-MODIFIED:20241107T150230Z
UID:20902-1732212000-1732219200@www.labellangerais.org
SUMMARY:Retour soirée OPEN LAB
DESCRIPTION:Espace de création et lieu de ressources\, l’Espace public numérique de la Maison de Quartier de la Bellangerais vous propose un temps consacré à la création et fabrication numérique tous les jeudis de 18h à 20h. \nDécoupeuse laser\, impression 3D\, réalisation et montage vidéo… \nVenez avec vos idées et nous mettons à votre disposition les outils de fabrication nécessaires à la réalisation de vos projets. \nNous sommes également disponibles à vous aider à prendre en main les outils de fabrication de l’atelier numérique.
URL:https://www.labellangerais.org/evenement/retour-soiree-open-lab/
LOCATION:Maison de Quartier la Bellangerais\, 5 rue du Morbihan\, Rennes\, 35700
ATTACH;FMTTYPE=image/png:https://www.labellangerais.org/wp-content/uploads/2024/11/OPEN-LAB.png
ORGANIZER;CN="MQB":MAILTO:contact@labellangerais.org
END:VEVENT
BEGIN:VEVENT
DTSTART;TZID=Europe/Paris:20241118T140000
DTEND;TZID=Europe/Paris:20241118T180000
DTSTAMP:20260425T012709
CREATED:20241107T143051Z
LAST-MODIFIED:20241107T143328Z
UID:20844-1731938400-1731952800@www.labellangerais.org
SUMMARY:Ateliers numériques niveau intermédiaire - Accueil Libre
DESCRIPTION:L’Espace public numérique de la Maison de Quartier de la Bellangerais met en place de nouveaux ateliers numériques collectifs de niveau intermédiaire animés par Robert ! \nPour découvrir les sujets qui pourront être abordés durant ces ateliers\, nous vous proposons deux temps d’ accueil libre avec notre bénévole les lundis 18 et 25 novembre de 14h à 18h. \nVenez échanger avec lui de vos attentes et de vos envies pour consolider vos connaissances en numérique !
URL:https://www.labellangerais.org/evenement/ateliers-numeriques-niveau-intermediaires-accueil-libre/
LOCATION:Maison de Quartier la Bellangerais\, 5 rue du Morbihan\, Rennes\, 35700
CATEGORIES:Espace Numérique
ATTACH;FMTTYPE=image/png:https://www.labellangerais.org/wp-content/uploads/2024/11/2.png
ORGANIZER;CN="MQB":MAILTO:contact@labellangerais.org
END:VEVENT
BEGIN:VEVENT
DTSTART;TZID=Europe/Paris:20241116T093000
DTEND;TZID=Europe/Paris:20241116T163000
DTSTAMP:20260425T012709
CREATED:20241023T090949Z
LAST-MODIFIED:20241023T090949Z
UID:20825-1731749400-1731774600@www.labellangerais.org
SUMMARY:Fais dodo ! Une journée sur le sommeil pour parents et enfants
DESCRIPTION:Conférence\, lecture et découverte\, atelier\, exposition\, table ronde\, sieste musicale… Tout un programme pour les enfants et les parents ! Gratuit\, inscription conseillée sur certaines propositions.
URL:https://www.labellangerais.org/evenement/fais-dodo-une-journee-sur-le-sommeil-pour-parents-et-enfants/
LOCATION:Maison de Quartier la Bellangerais\, 5 rue du Morbihan\, Rennes\, 35700
CATEGORIES:Animations,Conférences,Expositions
END:VEVENT
BEGIN:VEVENT
DTSTART;TZID=Europe/Paris:20240829T190000
DTEND;TZID=Europe/Paris:20240829T200000
DTSTAMP:20260425T012709
CREATED:20240617T133826Z
LAST-MODIFIED:20240618T144942Z
UID:19861-1724958000-1724961600@www.labellangerais.org
SUMMARY:Spectacle "7 samouraïs" par la compagnie Version 14
DESCRIPTION:7 Samouraïs associe danse hip hop et poésie pour donner vie par le corps et la parole à sept poèmes. Un danseur de 23 ans et un comédien de 56 ans découvrent comment se construire et se reconstruire\, l’un par rapport à l’autre\, quand l’un est jeune et l’autre plus âgé\, quand l’un est un fils et l’autre un père.
URL:https://www.labellangerais.org/evenement/spectacle-7-samourais-par-la-compagnie-version-14/
LOCATION:Maison de Quartier la Bellangerais\, 5 rue du Morbihan\, Rennes\, 35700
CATEGORIES:Spectacles
ATTACH;FMTTYPE=image/png:https://www.labellangerais.org/wp-content/uploads/2024/06/Affiche-7-samourais-.png
END:VEVENT
BEGIN:VEVENT
DTSTART;TZID=Europe/Paris:20240821T093000
DTEND;TZID=Europe/Paris:20240821T173000
DTSTAMP:20260425T012709
CREATED:20240617T134942Z
LAST-MODIFIED:20240618T145259Z
UID:19874-1724232600-1724261400@www.labellangerais.org
SUMMARY:Journée aux Jardins de Brocéliande
DESCRIPTION:  \nLe car vous déposera à l’entrée du parc de Brocéliande. Aux portes de la forêt de Brocéliande\, explorez 24 hectares de verdure où fleurissent collections végétales\, parcours sensoriels et activités ludiques. La Maison de Quartier prendra en charge l’entrée payante.
URL:https://www.labellangerais.org/evenement/journee-aux-jardins-de-broceliande/
CATEGORIES:Sorties
ATTACH;FMTTYPE=image/png:https://www.labellangerais.org/wp-content/uploads/2024/06/affiches-activites-ete.png
END:VEVENT
BEGIN:VEVENT
DTSTART;TZID=Europe/Paris:20240724T090000
DTEND;TZID=Europe/Paris:20240724T180000
DTSTAMP:20260425T012709
CREATED:20240617T134705Z
LAST-MODIFIED:20240618T145424Z
UID:19870-1721811600-1721844000@www.labellangerais.org
SUMMARY:Sortie à Saint Malo
DESCRIPTION:  \nLe car vous déposera devant l’office de tourisme. Vous pourrez aller à votre guise découvrir St Malo intra-muros\, les plages\, le sillon…
URL:https://www.labellangerais.org/evenement/sortie-a-saint-malo/
CATEGORIES:Sorties
ATTACH;FMTTYPE=image/png:https://www.labellangerais.org/wp-content/uploads/2024/06/Sortie-a-St-Malo-24-juillet-2024.png
END:VEVENT
BEGIN:VEVENT
DTSTART;TZID=Europe/Paris:20240718T190000
DTEND;TZID=Europe/Paris:20240718T200000
DTSTAMP:20260425T012709
CREATED:20240617T133427Z
LAST-MODIFIED:20240618T145517Z
UID:19858-1721329200-1721332800@www.labellangerais.org
SUMMARY:Spectacle "L'attirail" par la compagnie La Plaine de joie
DESCRIPTION:  \n« Cher public\, chers enfants\, des acrobates\, un clown\, des jongleurs\, un fauve\, une écuyère… Aujourd’hui tout un cirque vous convie à rire\, vous émouvoir\, frissonner… Pourtant du vrai cirque\, il ne reste que lui\, le garçon de piste. Qu’importe\, car il y croit encore ! Alors à coup de souvenirs\, d’imagination et de constructions se créent les numéros. Et quoi de plus fort que l’imagination\, nos rêves et nos envies pour grandir ensemble ? »
URL:https://www.labellangerais.org/evenement/spectacle-lattirail-par-la-compagnie-la-plaine-de-joie/
LOCATION:Maison de Quartier la Bellangerais\, 5 rue du Morbihan\, Rennes\, 35700
CATEGORIES:Spectacles
ATTACH;FMTTYPE=image/png:https://www.labellangerais.org/wp-content/uploads/2024/06/Affiche-L_attirail.png
END:VEVENT
BEGIN:VEVENT
DTSTART;TZID=Europe/Paris:20240711T190000
DTEND;TZID=Europe/Paris:20240711T200000
DTSTAMP:20260425T012709
CREATED:20240617T130114Z
LAST-MODIFIED:20240618T145559Z
UID:19849-1720724400-1720728000@www.labellangerais.org
SUMMARY:Spectacle "Les Forsini" par la Compagnie Hémisphère de l'Ouest
DESCRIPTION:  \nHumour et Art du cirque (personnages clownesques\, jongleries\, numéros de saltimbanque) pour un duo désopilant où la filiation est à chercher du côté des Chaplin\, Keaton et autre Laurel et Hardy. Une comédie à savourer en famille.
URL:https://www.labellangerais.org/evenement/spectacle-les-forsini-par-la-compagnie-hemisphere-de-louest/
LOCATION:Maison de Quartier la Bellangerais\, 5 rue du Morbihan\, Rennes\, 35700
CATEGORIES:Spectacles
ATTACH;FMTTYPE=image/png:https://www.labellangerais.org/wp-content/uploads/2024/06/Affiche-Les-Forcini.png
END:VEVENT
BEGIN:VEVENT
DTSTART;TZID=Europe/Paris:20240710T090000
DTEND;TZID=Europe/Paris:20240710T180000
DTSTAMP:20260425T012709
CREATED:20240617T134339Z
LAST-MODIFIED:20240618T145708Z
UID:19865-1720602000-1720634400@www.labellangerais.org
SUMMARY:Sortie à Dinard
DESCRIPTION:  \nLe car vous déposera au niveau de la grande plage de Dinard. Vous pourrez aller à votre guise découvrir le centre bourg\, les chemins côtiers\, la grande plage\, la piscine…
URL:https://www.labellangerais.org/evenement/sortie-a-dinard/
CATEGORIES:Sorties
ATTACH;FMTTYPE=image/png:https://www.labellangerais.org/wp-content/uploads/2024/06/Sortie-a-Dinard-10-juillet-2024.png
END:VEVENT
BEGIN:VEVENT
DTSTART;TZID=Europe/Paris:20240703T150000
DTEND;TZID=Europe/Paris:20240703T190000
DTSTAMP:20260425T012709
CREATED:20240619T145758Z
LAST-MODIFIED:20240619T145758Z
UID:19936-1720018800-1720033200@www.labellangerais.org
SUMMARY:Fête de l'été
DESCRIPTION:Nous vous donnons rendez-vous le 3 juillet pour la fête de l’été ! \nAu programme : \n\nKermesse du Centre de Loisirs\nAteliers multisports\, numériques et jeux de société\nAtelier de décoration des estrades en bois\nAnimation musicale\nBuvette solidaire\nForum des activités de la Maison de Quartier\nInauguration de la place par Nathalie Appéré\, maire de Rennes\, et Hommage à Fabrice Hubert à 17h30
URL:https://www.labellangerais.org/evenement/fete-de-lete/
LOCATION:Maison de Quartier la Bellangerais\, 5 rue du Morbihan\, Rennes\, 35700
CATEGORIES:Animations
ATTACH;FMTTYPE=image/png:https://www.labellangerais.org/wp-content/uploads/2024/06/Fete-de-lete-Flyer-recto.png
END:VEVENT
BEGIN:VEVENT
DTSTART;TZID=Europe/Paris:20240626T143000
DTEND;TZID=Europe/Paris:20240626T163000
DTSTAMP:20260425T012709
CREATED:20240621T145007Z
LAST-MODIFIED:20240621T145007Z
UID:19967-1719412200-1719419400@www.labellangerais.org
SUMMARY:Atelier créatif et participatif enfants/ado/adultes
DESCRIPTION:Le Végétal s’invite dans l’espace publique devant ta Maison de Quartier !\nEn solo\, en duo ou en famille\, venez dessiner des motifs inspirés de la Nature (feuilles\, fleurs\, algues…) qui décoreront la future estrade et les bancs de la place de La Bellangerais !\nNous collecterons vos dessins qui seront retranscrits en pochoirs pour peindre sur les mobiliers de l’espace public le mercredi 3 juillet lors de la Fête de l’été de la MQB et l’inauguration de la place !
URL:https://www.labellangerais.org/evenement/atelier-creatif-et-participatif-enfants-ado-adultes/
LOCATION:Maison de Quartier la Bellangerais\, 5 rue du Morbihan\, Rennes\, 35700
CATEGORIES:Ateliers
END:VEVENT
BEGIN:VEVENT
DTSTART;TZID=Europe/Paris:20240626T140000
DTEND;TZID=Europe/Paris:20240626T160000
DTSTAMP:20260425T012709
CREATED:20240621T102938Z
LAST-MODIFIED:20240621T102938Z
UID:19953-1719410400-1719417600@www.labellangerais.org
SUMMARY:Atelier beurre
DESCRIPTION:Dans le cadre de ses études\, Marion\, habitante du quartier et étudiante aux Beaux Arts\, vous invite à participer à un évènement autour de la fabrication du beurre artisanal\, suivi d’une dégustation.
URL:https://www.labellangerais.org/evenement/atelier-beurre/
LOCATION:Maison de Quartier la Bellangerais\, 5 rue du Morbihan\, Rennes\, 35700
CATEGORIES:Animations
ATTACH;FMTTYPE=image/png:https://www.labellangerais.org/wp-content/uploads/2024/06/Capture-decran-2024-06-21-104937.png
END:VEVENT
BEGIN:VEVENT
DTSTART;TZID=Europe/Paris:20240625T200000
DTEND;TZID=Europe/Paris:20240625T210000
DTSTAMP:20260425T012709
CREATED:20240618T144521Z
LAST-MODIFIED:20240618T144521Z
UID:19899-1719345600-1719349200@www.labellangerais.org
SUMMARY:Soirée musicale chants et chorale
DESCRIPTION:Nous vous donnons rendez-vous à la maison de quartier le mardi 25 juin à 20h pour assister à la soirée musicale chants et chorale !
URL:https://www.labellangerais.org/evenement/soiree-musicale-chants-et-chorale/
LOCATION:Maison de Quartier la Bellangerais\, 5 rue du Morbihan\, Rennes\, 35700
CATEGORIES:Spectacles
ATTACH;FMTTYPE=image/png:https://www.labellangerais.org/wp-content/uploads/2024/06/soiree-musicale-25-juin.png
END:VEVENT
BEGIN:VEVENT
DTSTART;TZID=Europe/Paris:20240622T100000
DTEND;TZID=Europe/Paris:20240622T191500
DTSTAMP:20260425T012709
CREATED:20240603T145103Z
LAST-MODIFIED:20240621T101934Z
UID:19474-1719050400-1719083700@www.labellangerais.org
SUMMARY:Gala de danse
DESCRIPTION:Vous trouverez ci-dessous les liens qui vous permettent de réserver des billets pour le gala de danse de la Maison de Quartier La Bellangerais et qui aura lieu au Théâtre Lillico\, 14 rue Guy Ropartz à Rennes. \n  \nGala du samedi 22 juin 2024 de 10h à 11h : \nhttps://www.helloasso.com/associations/maison-de-quartier-la-bellangerais/evenements/gala-de-danse-de-la-maison-de-quartier-la-bellangerais \n  \nGala du samedi 22 juin 2024 de 11h45 à 12h45 : \nhttps://www.helloasso.com/associations/maison-de-quartier-la-bellangerais/evenements/gala-de-danse-de-la-maison-de-quartier-la-bellangerais-2 \n  \nGala du samedi 22 juin 2024 de 16h30 à 17h30 : \nhttps://www.helloasso.com/associations/maison-de-quartier-la-bellangerais/evenements/gala-de-danse-de-la-maison-de-quartier-la-bellangerais-2-2 \n  \nGala du samedi 22 juin 2024 de 18h15 à 19h15 : \nhttps://www.helloasso.com/associations/maison-de-quartier-la-bellangerais/evenements/gala-de-danse-de-la-maison-de-quartier-la-bellangerais-2-2-2 \n 
URL:https://www.labellangerais.org/evenement/gala-de-danse/
LOCATION:Théâtre Lillico\, 14 rue Guy Ropartz\, Rennes\, 35700\, France
END:VEVENT
BEGIN:VEVENT
DTSTART;TZID=Europe/Paris:20240612T183000
DTEND;TZID=Europe/Paris:20240612T200000
DTSTAMP:20260425T012709
CREATED:20240605T133536Z
LAST-MODIFIED:20240605T133603Z
UID:19529-1718217000-1718222400@www.labellangerais.org
SUMMARY:Spectacle de théâtre enfants
DESCRIPTION:  \nLes enfants de l’atelier théâtre vous invitent à venir voir leur représentation « Comment le petit chaperon rouge est devenu le grand méchant loup ou presque » de Olivier Ka et René Guichoux\, mercredi 12 juin à 18h30.
URL:https://www.labellangerais.org/evenement/spectacle-de-theatre-enfants/
END:VEVENT
BEGIN:VEVENT
DTSTART;TZID=Europe/Paris:20240612T140000
DTEND;TZID=Europe/Paris:20240612T160000
DTSTAMP:20260425T012709
CREATED:20240605T141036Z
LAST-MODIFIED:20240605T141800Z
UID:19532-1718200800-1718208000@www.labellangerais.org
SUMMARY:Atelier poterie\, peinture\, et banderoles
DESCRIPTION:Pour préparer une fête autour de la fabrication du beurre artisanal qui aura lieu fin du mois de juin à la maison de quartier\, Marion\, habitante du quartier et étudiante à l’école des Beaux Arts\, vous propose d’animer trois ateliers participatifs\, ouvert à toutes et a tous\, pour mettre les mains dans la terre et la peinture ! \nLors de cet atelier seront réalisés :\n– des tasses et cuillères de dégustation en poterie\,\n– des panneaux de signalisation\,\n– des décorations en tissus.
URL:https://www.labellangerais.org/evenement/atelier-poterie-peinture-et-banderoles/
LOCATION:Maison de Quartier la Bellangerais\, 5 rue du Morbihan\, Rennes\, 35700
END:VEVENT
BEGIN:VEVENT
DTSTART;TZID=Europe/Paris:20240611T203000
DTEND;TZID=Europe/Paris:20240611T223000
DTSTAMP:20260425T012709
CREATED:20240605T133225Z
LAST-MODIFIED:20240605T133225Z
UID:19525-1718137800-1718145000@www.labellangerais.org
SUMMARY:Spectacle de théâtre adultes
DESCRIPTION:  \nLes adultes de l’atelier théâtre vous invitent à venir voir leur représentation « Délire à deux » de Eugène Ionesco\, mardi 11 juin à 20h30.
URL:https://www.labellangerais.org/evenement/spectacle-de-theatre-adultes/
LOCATION:Maison de Quartier la Bellangerais\, 5 rue du Morbihan\, Rennes\, 35700
END:VEVENT
BEGIN:VEVENT
DTSTART;TZID=Europe/Paris:20240606T183000
DTEND;TZID=Europe/Paris:20240606T193000
DTSTAMP:20260425T012709
CREATED:20240605T131019Z
LAST-MODIFIED:20240605T133721Z
UID:19516-1717698600-1717702200@www.labellangerais.org
SUMMARY:Soirée musicale
DESCRIPTION:  \n  \n  \n  \n  \n  \n  \n  \n  \n  \n  \n  \n  \nNous vous donnons rendez-vous à la maison de quartier le jeudi 6 juin à 18h30 pour venir écouter les élèves des cours de musique jouer plusieurs morceaux à l’occasion d’une soirée musicale !
URL:https://www.labellangerais.org/evenement/soiree-musicale/
LOCATION:Maison de Quartier la Bellangerais\, 5 rue du Morbihan\, Rennes\, 35700
END:VEVENT
BEGIN:VEVENT
DTSTART;TZID=Europe/Paris:20240605T180000
DTEND;TZID=Europe/Paris:20240612T180000
DTSTAMP:20260425T012709
CREATED:20240605T130408Z
LAST-MODIFIED:20240605T130443Z
UID:19512-1717610400-1718215200@www.labellangerais.org
SUMMARY:Vernissage et exposition d'arts plastiques
DESCRIPTION:Jusqu’au 12 juin\, les réalisations des enfants et adultes des groupes d’arts plastiques s’exposent à la maison de quartier ! Un vernissage aura lieu\, mercredi 5 juin à 18h\, dans le patio\, situé entre la maison de quartier et la bibliothèque.
URL:https://www.labellangerais.org/evenement/vernissage-et-exposition-darts-plastiques/
LOCATION:Maison de Quartier la Bellangerais\, 5 rue du Morbihan\, Rennes\, 35700
END:VEVENT
BEGIN:VEVENT
DTSTART;TZID=Europe/Paris:20240426T100000
DTEND;TZID=Europe/Paris:20240426T160000
DTSTAMP:20260425T012709
CREATED:20240403T094442Z
LAST-MODIFIED:20240403T094442Z
UID:19284-1714125600-1714147200@www.labellangerais.org
SUMMARY:Atelier Hip Hop
DESCRIPTION:« Kilian aka Kudi\, artiste\, danseur et activiste du milieu hip hop depuis 13 années. Je me suis spécialisé dans le Breaking par passion\, et le transmet à travers des battles\, des cours ainsi que des shows. À côté de cela\, j’ai suivi des études dans le milieu du sport\, ainsi que le milieu de l’animation. Ceci me permettant de mettre en avant ma pratique du Breaking dans un cadre safe\, animé et de partage. Le but premier de mes initiations breaking est la transmission de la Culture\, l’apprentissage de soi\, de son corps\, la technicité et l’exécution d’enchaînements de mouvements\, d’aller au-delà du regard des autres et de te sentir à l’aise dans cette pratique\, tout en apprenant évidemment les bases et fondamentaux qui constituent le Breaking. C’est avec grand plaisir que j’ai hâte de partager cette expérience avec vous !  » \n  \nTarif : de 7 à 18€ la journée
URL:https://www.labellangerais.org/evenement/atelier-hip-hop/
LOCATION:Maison de Quartier la Bellangerais\, 5 rue du Morbihan\, Rennes\, 35700
CATEGORIES:Ateliers
ATTACH;FMTTYPE=image/jpeg:https://www.labellangerais.org/wp-content/uploads/2024/04/hip-hop.jpg
ORGANIZER;CN="MQB":MAILTO:contact@labellangerais.org
END:VEVENT
BEGIN:VEVENT
DTSTART;TZID=Europe/Paris:20240425T173000
DTEND;TZID=Europe/Paris:20240425T190000
DTSTAMP:20260425T012709
CREATED:20240403T094025Z
LAST-MODIFIED:20240403T094025Z
UID:19281-1714066200-1714071600@www.labellangerais.org
SUMMARY:Atelier danse africaine par le collectif d’arts vivants Diaphane
DESCRIPTION:Venez vous défouler avec votre ado ou votre enfant en vous intitiant à la danse africaine\, Lucie vous fera bouger sur les percus de son musicien. \n  \nTarif : de 7€ à 18€ en fonction de votre quotient familial \n  \nVisuel : @tanguymarchand
URL:https://www.labellangerais.org/evenement/atelier-danse-africaine-par-le-collectif-darts-vivants-diaphane/
LOCATION:Maison de Quartier la Bellangerais\, 5 rue du Morbihan\, Rennes\, 35700
CATEGORIES:Ateliers
ATTACH;FMTTYPE=image/jpeg:https://www.labellangerais.org/wp-content/uploads/2024/04/atelier-danse-africaine_TanguyMarchand.jpg
ORGANIZER;CN="MQB":MAILTO:contact@labellangerais.org
END:VEVENT
BEGIN:VEVENT
DTSTART;TZID=Europe/Paris:20240424T140000
DTEND;TZID=Europe/Paris:20240424T170000
DTSTAMP:20260425T012709
CREATED:20240403T093656Z
LAST-MODIFIED:20240403T093656Z
UID:19278-1713967200-1713978000@www.labellangerais.org
SUMMARY:Atelier couture enfant/parent
DESCRIPTION:Venez passer un peu de temps à confectionner un sac à goûter avec Claire David\, de l’atelier « Cop’in » \n  \nTarif : de 7 à 18 euros l’après-midi en fonction du Quotient familial
URL:https://www.labellangerais.org/evenement/atelier-couture-enfant-parent/
LOCATION:Maison de Quartier la Bellangerais\, 5 rue du Morbihan\, Rennes\, 35700
CATEGORIES:Ateliers
ATTACH;FMTTYPE=image/jpeg:https://www.labellangerais.org/wp-content/uploads/2024/04/couture.jpg
ORGANIZER;CN="MQB":MAILTO:contact@labellangerais.org
END:VEVENT
BEGIN:VEVENT
DTSTART;TZID=Europe/Paris:20240423T170000
DTEND;TZID=Europe/Paris:20240423T193000
DTSTAMP:20260425T012709
CREATED:20240403T094712Z
LAST-MODIFIED:20240403T094712Z
UID:19287-1713891600-1713900600@www.labellangerais.org
SUMMARY:Atelier Numérique parents enfants
DESCRIPTION:Venez créer avec votre enfant\, votre propre panneau de signalétique pour votre maison\, Mathilde COLAS vous guidera de sa conception sur ordinateur à sa réalisation grâce aux outils numériques de l’@telier de la Maison de Quartier. \n  \nTarif : de 7€ à 18€ en fonction de votre quotient familial \n 
URL:https://www.labellangerais.org/evenement/atelier-numerique-parents-enfants/
LOCATION:Maison de Quartier la Bellangerais\, 5 rue du Morbihan\, Rennes\, 35700
CATEGORIES:Ateliers
ATTACH;FMTTYPE=image/jpeg:https://www.labellangerais.org/wp-content/uploads/2024/01/16-Stage-vacances-atelier-numerique-.jpg
ORGANIZER;CN="MQB":MAILTO:contact@labellangerais.org
END:VEVENT
BEGIN:VEVENT
DTSTART;TZID=Europe/Paris:20240423T100000
DTEND;TZID=Europe/Paris:20240423T160000
DTSTAMP:20260425T012709
CREATED:20240403T093306Z
LAST-MODIFIED:20240403T093306Z
UID:19276-1713866400-1713888000@www.labellangerais.org
SUMMARY:Ateliers Arts plastiques
DESCRIPTION:Gravure sur gomme : création d’un leporello (livre accordéon) sur la Nature. \n  \nTarif : de 7 à 18 euros la journée en fonction du Quotient familial
URL:https://www.labellangerais.org/evenement/ateliers-arts-plastiques-2/
LOCATION:Maison de Quartier la Bellangerais\, 5 rue du Morbihan\, Rennes\, 35700
CATEGORIES:Ateliers
ATTACH;FMTTYPE=image/jpeg:https://www.labellangerais.org/wp-content/uploads/2024/04/artspla.jpg
ORGANIZER;CN="MQB":MAILTO:contact@labellangerais.org
END:VEVENT
BEGIN:VEVENT
DTSTART;TZID=Europe/Paris:20240422T100000
DTEND;TZID=Europe/Paris:20240422T160000
DTSTAMP:20260425T012709
CREATED:20240403T093006Z
LAST-MODIFIED:20240403T093006Z
UID:19270-1713780000-1713801600@www.labellangerais.org
SUMMARY:Ateliers Arts plastiques
DESCRIPTION:Sculpture en papier mâché : création de petits monstres. \n  \nTarif : de 7 à 18 euros la journée en fonction du Quotient familial
URL:https://www.labellangerais.org/evenement/ateliers-arts-plastiques/
LOCATION:Maison de Quartier la Bellangerais\, 5 rue du Morbihan\, Rennes\, 35700
CATEGORIES:Ateliers
ATTACH;FMTTYPE=image/jpeg:https://www.labellangerais.org/wp-content/uploads/2024/04/artspla.jpg
END:VEVENT
BEGIN:VEVENT
DTSTART;TZID=Europe/Paris:20240413T093000
DTEND;TZID=Europe/Paris:20240413T153000
DTSTAMP:20260425T012709
CREATED:20240403T092004Z
LAST-MODIFIED:20240403T092629Z
UID:19267-1713000600-1713022200@www.labellangerais.org
SUMMARY:Atelier Théâtre de l’opprimé.e / théâtre forum avec Aurélie Budor
DESCRIPTION:À travers des jeux coopératifs et des exercices du théâtre de l’opprimé.e\, Aurélie Budor vous invite durant une journée à : \n\nFormer un groupe en travaillant l’écoute et la confiance\nDéployer son corps (expression corporelle)\n(re)découvrir le jeu comme nous le vivions dans l’enfance\nMobiliser son pouvoir d’agir\nPrendre du plaisir collectivement\nDéployer son imaginaire et sa créativité\n\nTarif : de 24 à 36 euros la journée en fonction du quotient familial
URL:https://www.labellangerais.org/evenement/atelier-theatre-de-lopprime-e-theatre-forum-avec-aurelie-budor/
LOCATION:Maison de Quartier la Bellangerais\, 5 rue du Morbihan\, Rennes\, 35700
CATEGORIES:Ateliers
ATTACH;FMTTYPE=image/jpeg:https://www.labellangerais.org/wp-content/uploads/2024/04/theatre.jpg
ORGANIZER;CN="MQB":MAILTO:contact@labellangerais.org
END:VEVENT
BEGIN:VEVENT
DTSTART;TZID=Europe/Paris:20240406T100000
DTEND;TZID=Europe/Paris:20240406T120000
DTSTAMP:20260425T012709
CREATED:20240403T091347Z
LAST-MODIFIED:20240403T091347Z
UID:19264-1712397600-1712404800@www.labellangerais.org
SUMMARY:Pas toujours facile d’être parent ?
DESCRIPTION:Ce n’est pas toujours facile de s’y retrouver parmi tous les conseils que l’on entend en tant que parent.\nEt\, entre le parent que l’on voudrait être et la réalité du quotidien avec son ou ses enfants\, il y a parfois un écart. \nDelphine CANHOTO vous propose un temps d’informations\, de réflexions et d’échanges si vous le souhaitez\, autour de l’évolution de l’éducation\, les besoins fondamentaux de l’enfant\, l’empreinte de notre histoire et le poids de l’entourage\, le droit à l’erreur. \n*Selon les demandes\, une garde d’enfants est aménageable à partir de 3 ans
URL:https://www.labellangerais.org/evenement/pas-toujours-facile-detre-parent/
LOCATION:Maison de Quartier la Bellangerais\, 5 rue du Morbihan\, Rennes\, 35700
CATEGORIES:Ateliers
ATTACH;FMTTYPE=image/jpeg:https://www.labellangerais.org/wp-content/uploads/2024/04/atelier-6-avril.jpg
ORGANIZER;CN="MQB":MAILTO:contact@labellangerais.org
END:VEVENT
END:VCALENDAR