BEGIN:VCALENDAR
VERSION:2.0
PRODID:-//Maison de Quartier La Bellangerais - ECPv6.15.20//NONSGML v1.0//EN
CALSCALE:GREGORIAN
METHOD:PUBLISH
X-WR-CALNAME:Maison de Quartier La Bellangerais
X-ORIGINAL-URL:https://www.labellangerais.org
X-WR-CALDESC:Évènements pour Maison de Quartier La Bellangerais
REFRESH-INTERVAL;VALUE=DURATION:PT1H
X-Robots-Tag:noindex
X-PUBLISHED-TTL:PT1H
BEGIN:VTIMEZONE
TZID:Europe/Paris
BEGIN:DAYLIGHT
TZOFFSETFROM:+0100
TZOFFSETTO:+0200
TZNAME:CEST
DTSTART:20220327T010000
END:DAYLIGHT
BEGIN:STANDARD
TZOFFSETFROM:+0200
TZOFFSETTO:+0100
TZNAME:CET
DTSTART:20221030T010000
END:STANDARD
BEGIN:DAYLIGHT
TZOFFSETFROM:+0100
TZOFFSETTO:+0200
TZNAME:CEST
DTSTART:20230326T010000
END:DAYLIGHT
BEGIN:STANDARD
TZOFFSETFROM:+0200
TZOFFSETTO:+0100
TZNAME:CET
DTSTART:20231029T010000
END:STANDARD
BEGIN:DAYLIGHT
TZOFFSETFROM:+0100
TZOFFSETTO:+0200
TZNAME:CEST
DTSTART:20240331T010000
END:DAYLIGHT
BEGIN:STANDARD
TZOFFSETFROM:+0200
TZOFFSETTO:+0100
TZNAME:CET
DTSTART:20241027T010000
END:STANDARD
END:VTIMEZONE
BEGIN:VEVENT
DTSTART;TZID=Europe/Paris:20231123T200000
DTEND;TZID=Europe/Paris:20231123T220000
DTSTAMP:20260424T204440
CREATED:20231115T154030Z
LAST-MODIFIED:20231123T152210Z
UID:18905-1700769600-1700776800@www.labellangerais.org
SUMMARY:Visioconférence - Comprendre et Accompagner les émotions de nos enfants
DESCRIPTION:Je veux participer à la visioconférence\n					\n					\n				\n								\n				\n					\n		\n					\n		\n				\n						\n					\n			\n									\n						\n				\n									La Maison des familles de l’Udaf 35 vous invite à son prochain rendez-vous thématique :\n\n 	Qu’est-ce qu’une émotion et quel est leur rôle dans notre quotidien ?\n 	A quoi nous servent les émotions ?\n 	Les émotions dans le développement de l’enfant : Les apprivoiser prend du temps !\n 	émotion et neurosciences\n 	Focus sur l’émotion de la colère\n 	Comment réagir face à nos émotions…. Et aux émotions de nos enfants ? Quelques pistes…
URL:https://www.labellangerais.org/evenement/visio-udaf35-emotions-des-enfants/
LOCATION:En ligne
CATEGORIES:Conférences
ATTACH;FMTTYPE=image/png:https://www.labellangerais.org/wp-content/uploads/2023/11/Visuel-Visio-Udaf35.png
ORGANIZER;CN="Maison des Familles":MAILTO:lamaisondesfamilles@udaf35.fr
END:VEVENT
END:VCALENDAR