BEGIN:VCALENDAR
VERSION:2.0
PRODID:-//Maison de Quartier La Bellangerais - ECPv6.15.20//NONSGML v1.0//EN
CALSCALE:GREGORIAN
METHOD:PUBLISH
X-WR-CALNAME:Maison de Quartier La Bellangerais
X-ORIGINAL-URL:https://www.labellangerais.org
X-WR-CALDESC:Évènements pour Maison de Quartier La Bellangerais
REFRESH-INTERVAL;VALUE=DURATION:PT1H
X-Robots-Tag:noindex
X-PUBLISHED-TTL:PT1H
BEGIN:VTIMEZONE
TZID:Europe/Paris
BEGIN:DAYLIGHT
TZOFFSETFROM:+0100
TZOFFSETTO:+0200
TZNAME:CEST
DTSTART:20230326T010000
END:DAYLIGHT
BEGIN:STANDARD
TZOFFSETFROM:+0200
TZOFFSETTO:+0100
TZNAME:CET
DTSTART:20231029T010000
END:STANDARD
BEGIN:DAYLIGHT
TZOFFSETFROM:+0100
TZOFFSETTO:+0200
TZNAME:CEST
DTSTART:20240331T010000
END:DAYLIGHT
BEGIN:STANDARD
TZOFFSETFROM:+0200
TZOFFSETTO:+0100
TZNAME:CET
DTSTART:20241027T010000
END:STANDARD
BEGIN:DAYLIGHT
TZOFFSETFROM:+0100
TZOFFSETTO:+0200
TZNAME:CEST
DTSTART:20250330T010000
END:DAYLIGHT
BEGIN:STANDARD
TZOFFSETFROM:+0200
TZOFFSETTO:+0100
TZNAME:CET
DTSTART:20251026T010000
END:STANDARD
END:VTIMEZONE
BEGIN:VEVENT
DTSTART;VALUE=DATE:20240226
DTEND;VALUE=DATE:20240228
DTSTAMP:20260425T045125
CREATED:20240118T143025Z
LAST-MODIFIED:20240118T143025Z
UID:19144-1708905600-1709078399@www.labellangerais.org
SUMMARY:Stage vacances Février 2024 : arts Plastiques
DESCRIPTION:Delphine Combataladès vous propose des ateliers de découverte de l’arts plastiques et de différentes techniques. \n> Le 26 février 2024 : Gravure sur tétra pak : création d’un carnet d’animaux du monde. \n> Le 27 février 2024 : Encres végétales : création d’encres à partir de légumes\, de fleurs\, de racines et expérimentations. \nHoraires : 10h à 12h et de 14h00 à 16h00 en salle d’arts plastiques\nLa tranche d’âge : de 8 à 12 ans. \nCoût de l’atelier (1 jour) : \n\n\n\n<600\n600/900\n901/1200\n1201/1500\n1501/1800\n1801/2200\n2201<\n\n\n7\n8\n9\n12\n14\n16\n18\n\n\n\n 
URL:https://www.labellangerais.org/evenement/stage-vacances-fevrier-2024-arts-plastiques/
LOCATION:Maison de Quartier la Bellangerais\, 5 rue du Morbihan\, Rennes\, 35700
CATEGORIES:Ateliers
ATTACH;FMTTYPE=image/jpeg:https://www.labellangerais.org/wp-content/uploads/2024/01/13-Stage-vacances-Fevrier-2024-arts-Plastiques.jpg
END:VEVENT
END:VCALENDAR