BEGIN:VCALENDAR
VERSION:2.0
PRODID:-//Maison de Quartier La Bellangerais - ECPv6.15.20//NONSGML v1.0//EN
CALSCALE:GREGORIAN
METHOD:PUBLISH
X-WR-CALNAME:Maison de Quartier La Bellangerais
X-ORIGINAL-URL:https://www.labellangerais.org
X-WR-CALDESC:Évènements pour Maison de Quartier La Bellangerais
REFRESH-INTERVAL;VALUE=DURATION:PT1H
X-Robots-Tag:noindex
X-PUBLISHED-TTL:PT1H
BEGIN:VTIMEZONE
TZID:Europe/Paris
BEGIN:DAYLIGHT
TZOFFSETFROM:+0100
TZOFFSETTO:+0200
TZNAME:CEST
DTSTART:20220327T010000
END:DAYLIGHT
BEGIN:STANDARD
TZOFFSETFROM:+0200
TZOFFSETTO:+0100
TZNAME:CET
DTSTART:20221030T010000
END:STANDARD
BEGIN:DAYLIGHT
TZOFFSETFROM:+0100
TZOFFSETTO:+0200
TZNAME:CEST
DTSTART:20230326T010000
END:DAYLIGHT
BEGIN:STANDARD
TZOFFSETFROM:+0200
TZOFFSETTO:+0100
TZNAME:CET
DTSTART:20231029T010000
END:STANDARD
BEGIN:DAYLIGHT
TZOFFSETFROM:+0100
TZOFFSETTO:+0200
TZNAME:CEST
DTSTART:20240331T010000
END:DAYLIGHT
BEGIN:STANDARD
TZOFFSETFROM:+0200
TZOFFSETTO:+0100
TZNAME:CET
DTSTART:20241027T010000
END:STANDARD
END:VTIMEZONE
BEGIN:VEVENT
DTSTART;TZID=Europe/Paris:20230705T180000
DTEND;TZID=Europe/Paris:20230705T180000
DTSTAMP:20260425T125250
CREATED:20230619T142054Z
LAST-MODIFIED:20230619T142055Z
UID:17166-1688580000-1688580000@www.labellangerais.org
SUMMARY:Spectacle "Pincez-moi je rêve " - Mercredi 5 juillet 2023 à 18h30
DESCRIPTION:« Toujours dans l’envie d’échanger et de partager\, Strobineler part à la rencontre des plus grands magiciens\, magiciennes\, sorciers\, sorcières et autres bonnes fées de la planète. En quête de ce qui lui permettra de voyager ici ou là et même\, encore plus loin… » \n\n\n\nEn pratique :Devant la Maison de l’enfance : 5 square de Josselin 35700 RennesPour tousGratuitDurée : 1 heure
URL:https://www.labellangerais.org/evenement/spectacle-pincez-moi-je-reve-mercredi-5-juillet-2023-a-18h30/
ATTACH;FMTTYPE=image/jpeg:https://www.labellangerais.org/wp-content/uploads/2023/06/Pincez-moi-STROBINELER-Juillete-2023.jpg
END:VEVENT
END:VCALENDAR