BEGIN:VCALENDAR
VERSION:2.0
PRODID:-//Maison de Quartier La Bellangerais - ECPv6.15.20//NONSGML v1.0//EN
CALSCALE:GREGORIAN
METHOD:PUBLISH
X-WR-CALNAME:Maison de Quartier La Bellangerais
X-ORIGINAL-URL:https://www.labellangerais.org
X-WR-CALDESC:Évènements pour Maison de Quartier La Bellangerais
REFRESH-INTERVAL;VALUE=DURATION:PT1H
X-Robots-Tag:noindex
X-PUBLISHED-TTL:PT1H
BEGIN:VTIMEZONE
TZID:Europe/Paris
BEGIN:DAYLIGHT
TZOFFSETFROM:+0100
TZOFFSETTO:+0200
TZNAME:CEST
DTSTART:20230326T010000
END:DAYLIGHT
BEGIN:STANDARD
TZOFFSETFROM:+0200
TZOFFSETTO:+0100
TZNAME:CET
DTSTART:20231029T010000
END:STANDARD
BEGIN:DAYLIGHT
TZOFFSETFROM:+0100
TZOFFSETTO:+0200
TZNAME:CEST
DTSTART:20240331T010000
END:DAYLIGHT
BEGIN:STANDARD
TZOFFSETFROM:+0200
TZOFFSETTO:+0100
TZNAME:CET
DTSTART:20241027T010000
END:STANDARD
BEGIN:DAYLIGHT
TZOFFSETFROM:+0100
TZOFFSETTO:+0200
TZNAME:CEST
DTSTART:20250330T010000
END:DAYLIGHT
BEGIN:STANDARD
TZOFFSETFROM:+0200
TZOFFSETTO:+0100
TZNAME:CET
DTSTART:20251026T010000
END:STANDARD
END:VTIMEZONE
BEGIN:VEVENT
DTSTART;TZID=Europe/Paris:20240214T100000
DTEND;TZID=Europe/Paris:20240214T110000
DTSTAMP:20260424T235949
CREATED:20240118T142105Z
LAST-MODIFIED:20240118T142105Z
UID:19141-1707904800-1707908400@www.labellangerais.org
SUMMARY:Spectacle « Meraki » par la compagnie Artamuse
DESCRIPTION:Un spectacle musical\, avec une comédienne et une violoncelliste qui explorent l’espace et le font vibrer.  \nLa lumière se fait complice des deux femmes entre jeu de corps et matières légères\, entre musique et grincements\, couleurs et noir et blanc. C’est la vie entière qui se dit au tout petit spectateur en une rencontre délicate et ludique \nSur inscription / de la naissance à 5 ans\, et avec des adultes accompagnateurs
URL:https://www.labellangerais.org/evenement/spectacle-meraki-par-la-compagnie-artamuse/
LOCATION:Maison de Quartier la Bellangerais\, 5 rue du Morbihan\, Rennes\, 35700
CATEGORIES:Jeunes publics
ATTACH;FMTTYPE=image/jpeg:https://www.labellangerais.org/wp-content/uploads/2024/01/9-Conference-Faire-la-connaissance-de-son-ado-.jpg
END:VEVENT
END:VCALENDAR