BEGIN:VCALENDAR
VERSION:2.0
PRODID:-//Maison de Quartier La Bellangerais - ECPv6.15.20//NONSGML v1.0//EN
CALSCALE:GREGORIAN
METHOD:PUBLISH
X-WR-CALNAME:Maison de Quartier La Bellangerais
X-ORIGINAL-URL:https://www.labellangerais.org
X-WR-CALDESC:Évènements pour Maison de Quartier La Bellangerais
REFRESH-INTERVAL;VALUE=DURATION:PT1H
X-Robots-Tag:noindex
X-PUBLISHED-TTL:PT1H
BEGIN:VTIMEZONE
TZID:Europe/Paris
BEGIN:DAYLIGHT
TZOFFSETFROM:+0100
TZOFFSETTO:+0200
TZNAME:CEST
DTSTART:20220327T010000
END:DAYLIGHT
BEGIN:STANDARD
TZOFFSETFROM:+0200
TZOFFSETTO:+0100
TZNAME:CET
DTSTART:20221030T010000
END:STANDARD
BEGIN:DAYLIGHT
TZOFFSETFROM:+0100
TZOFFSETTO:+0200
TZNAME:CEST
DTSTART:20230326T010000
END:DAYLIGHT
BEGIN:STANDARD
TZOFFSETFROM:+0200
TZOFFSETTO:+0100
TZNAME:CET
DTSTART:20231029T010000
END:STANDARD
BEGIN:DAYLIGHT
TZOFFSETFROM:+0100
TZOFFSETTO:+0200
TZNAME:CEST
DTSTART:20240331T010000
END:DAYLIGHT
BEGIN:STANDARD
TZOFFSETFROM:+0200
TZOFFSETTO:+0100
TZNAME:CET
DTSTART:20241027T010000
END:STANDARD
END:VTIMEZONE
BEGIN:VEVENT
DTSTART;TZID=Europe/Paris:20230711T093000
DTEND;TZID=Europe/Paris:20230711T180000
DTSTAMP:20260425T125843
CREATED:20230710T160127Z
LAST-MODIFIED:20230710T160257Z
UID:17507-1689067800-1689098400@www.labellangerais.org
SUMMARY:Sortie famille à Fougères
DESCRIPTION:Ouverte à tous les habitants.SUR INSCRIPTION à l’accueil. \n\n\n\nVous pouvez venir seul\, en famille\, entre amis. Les mineurs doivent être accompagnés d’une personne majeure.Quelques idées pour cette journée : Possibilité de visiter le château de Fougères avec ou sans guide (sur réservation)\, vieux Fougères. \n\n\n\nEn pratique : JOURNÉE LIBRE \n\n\n\nDépart : 9h30Retour : 18h \n\n\n\nTARIFS :Aller/Retour en car : 5€ par personne / 2.50€ pour les QF < 900 ou Carte « Sortir »A partir de trois personnes du même foyer : 10€ pour le groupe / 5€ pour les QF < 900 ou Carte « Sortir »
URL:https://www.labellangerais.org/evenement/sortie-famille-a-fougeres/
ATTACH;FMTTYPE=image/png:https://www.labellangerais.org/wp-content/uploads/2023/07/CARRE-sortie-fougeres.png
END:VEVENT
END:VCALENDAR