BEGIN:VCALENDAR
VERSION:2.0
PRODID:-//Maison de Quartier La Bellangerais - ECPv6.15.20//NONSGML v1.0//EN
CALSCALE:GREGORIAN
METHOD:PUBLISH
X-WR-CALNAME:Maison de Quartier La Bellangerais
X-ORIGINAL-URL:https://www.labellangerais.org
X-WR-CALDESC:Évènements pour Maison de Quartier La Bellangerais
REFRESH-INTERVAL;VALUE=DURATION:PT1H
X-Robots-Tag:noindex
X-PUBLISHED-TTL:PT1H
BEGIN:VTIMEZONE
TZID:Europe/Paris
BEGIN:DAYLIGHT
TZOFFSETFROM:+0100
TZOFFSETTO:+0200
TZNAME:CEST
DTSTART:20230326T010000
END:DAYLIGHT
BEGIN:STANDARD
TZOFFSETFROM:+0200
TZOFFSETTO:+0100
TZNAME:CET
DTSTART:20231029T010000
END:STANDARD
BEGIN:DAYLIGHT
TZOFFSETFROM:+0100
TZOFFSETTO:+0200
TZNAME:CEST
DTSTART:20240331T010000
END:DAYLIGHT
BEGIN:STANDARD
TZOFFSETFROM:+0200
TZOFFSETTO:+0100
TZNAME:CET
DTSTART:20241027T010000
END:STANDARD
BEGIN:DAYLIGHT
TZOFFSETFROM:+0100
TZOFFSETTO:+0200
TZNAME:CEST
DTSTART:20250330T010000
END:DAYLIGHT
BEGIN:STANDARD
TZOFFSETFROM:+0200
TZOFFSETTO:+0100
TZNAME:CET
DTSTART:20251026T010000
END:STANDARD
END:VTIMEZONE
BEGIN:VEVENT
DTSTART;TZID=Europe/Paris:20241121T180000
DTEND;TZID=Europe/Paris:20241121T200000
DTSTAMP:20260424T235647
CREATED:20241107T150230Z
LAST-MODIFIED:20241107T150230Z
UID:20902-1732212000-1732219200@www.labellangerais.org
SUMMARY:Retour soirée OPEN LAB
DESCRIPTION:Espace de création et lieu de ressources\, l’Espace public numérique de la Maison de Quartier de la Bellangerais vous propose un temps consacré à la création et fabrication numérique tous les jeudis de 18h à 20h. \nDécoupeuse laser\, impression 3D\, réalisation et montage vidéo… \nVenez avec vos idées et nous mettons à votre disposition les outils de fabrication nécessaires à la réalisation de vos projets. \nNous sommes également disponibles à vous aider à prendre en main les outils de fabrication de l’atelier numérique.
URL:https://www.labellangerais.org/evenement/retour-soiree-open-lab/
LOCATION:Maison de Quartier la Bellangerais\, 5 rue du Morbihan\, Rennes\, 35700
ATTACH;FMTTYPE=image/png:https://www.labellangerais.org/wp-content/uploads/2024/11/OPEN-LAB.png
ORGANIZER;CN="MQB":MAILTO:contact@labellangerais.org
END:VEVENT
END:VCALENDAR