BEGIN:VCALENDAR
VERSION:2.0
PRODID:-//Maison de Quartier La Bellangerais - ECPv6.15.20//NONSGML v1.0//EN
CALSCALE:GREGORIAN
METHOD:PUBLISH
X-WR-CALNAME:Maison de Quartier La Bellangerais
X-ORIGINAL-URL:https://www.labellangerais.org
X-WR-CALDESC:Évènements pour Maison de Quartier La Bellangerais
REFRESH-INTERVAL;VALUE=DURATION:PT1H
X-Robots-Tag:noindex
X-PUBLISHED-TTL:PT1H
BEGIN:VTIMEZONE
TZID:Europe/Paris
BEGIN:DAYLIGHT
TZOFFSETFROM:+0100
TZOFFSETTO:+0200
TZNAME:CEST
DTSTART:20220327T010000
END:DAYLIGHT
BEGIN:STANDARD
TZOFFSETFROM:+0200
TZOFFSETTO:+0100
TZNAME:CET
DTSTART:20221030T010000
END:STANDARD
BEGIN:DAYLIGHT
TZOFFSETFROM:+0100
TZOFFSETTO:+0200
TZNAME:CEST
DTSTART:20230326T010000
END:DAYLIGHT
BEGIN:STANDARD
TZOFFSETFROM:+0200
TZOFFSETTO:+0100
TZNAME:CET
DTSTART:20231029T010000
END:STANDARD
BEGIN:DAYLIGHT
TZOFFSETFROM:+0100
TZOFFSETTO:+0200
TZNAME:CEST
DTSTART:20240331T010000
END:DAYLIGHT
BEGIN:STANDARD
TZOFFSETFROM:+0200
TZOFFSETTO:+0100
TZNAME:CET
DTSTART:20241027T010000
END:STANDARD
END:VTIMEZONE
BEGIN:VEVENT
DTSTART;TZID=Europe/Paris:20230728T093000
DTEND;TZID=Europe/Paris:20230728T120000
DTSTAMP:20260425T123029
CREATED:20230710T155722Z
LAST-MODIFIED:20231123T153132Z
UID:17505-1690536600-1690545600@www.labellangerais.org
SUMMARY:Permanence "Conseils numériques"
DESCRIPTION:Prendre un rendez-vous sur Doctolib ou à la préfecture\,Faire une demande de logement social\,Activer son chèque énergie\,Installer une application sur son téléphone\,Renouveler son passeport\, sa carte d’identité\, son titre de séjour \n\n\n\nLes conseillers numériques vous reçoivent gratuitement cet été : \n\n\n\n– Les mardis 4\, 11\, 18 et 25 juillet de 9h30 à 12h– Les vendredis 7\, 21\, 28 juillet de 9h30 à 12h
URL:https://www.labellangerais.org/evenement/permanence-conseils-numeriques-5/
ATTACH;FMTTYPE=image/png:https://www.labellangerais.org/wp-content/uploads/2022/09/Visuel-Conseiller-numerique.png
END:VEVENT
END:VCALENDAR