BEGIN:VCALENDAR
VERSION:2.0
PRODID:-//Maison de Quartier La Bellangerais - ECPv6.15.20//NONSGML v1.0//EN
CALSCALE:GREGORIAN
METHOD:PUBLISH
X-WR-CALNAME:Maison de Quartier La Bellangerais
X-ORIGINAL-URL:https://www.labellangerais.org
X-WR-CALDESC:Évènements pour Maison de Quartier La Bellangerais
REFRESH-INTERVAL;VALUE=DURATION:PT1H
X-Robots-Tag:noindex
X-PUBLISHED-TTL:PT1H
BEGIN:VTIMEZONE
TZID:Europe/Paris
BEGIN:DAYLIGHT
TZOFFSETFROM:+0100
TZOFFSETTO:+0200
TZNAME:CEST
DTSTART:20220327T010000
END:DAYLIGHT
BEGIN:STANDARD
TZOFFSETFROM:+0200
TZOFFSETTO:+0100
TZNAME:CET
DTSTART:20221030T010000
END:STANDARD
BEGIN:DAYLIGHT
TZOFFSETFROM:+0100
TZOFFSETTO:+0200
TZNAME:CEST
DTSTART:20230326T010000
END:DAYLIGHT
BEGIN:STANDARD
TZOFFSETFROM:+0200
TZOFFSETTO:+0100
TZNAME:CET
DTSTART:20231029T010000
END:STANDARD
BEGIN:DAYLIGHT
TZOFFSETFROM:+0100
TZOFFSETTO:+0200
TZNAME:CEST
DTSTART:20240331T010000
END:DAYLIGHT
BEGIN:STANDARD
TZOFFSETFROM:+0200
TZOFFSETTO:+0100
TZNAME:CET
DTSTART:20241027T010000
END:STANDARD
END:VTIMEZONE
BEGIN:VEVENT
DTSTART;TZID=Europe/Paris:20230301T153000
DTEND;TZID=Europe/Paris:20230301T163000
DTSTAMP:20260425T140842
CREATED:20230214T100410Z
LAST-MODIFIED:20230227T153154Z
UID:16054-1677684600-1677688200@www.labellangerais.org
SUMMARY:"Meraki"
DESCRIPTION:La Compagnie ARTAMUSE propose un spectacle musical et sensoriel : \n\n\n\nComment nait-on au monde ? Comment est-on au monde ? \n\n\n\nSur le plateau nu\, une comédienne et une violoncelliste explorent l’espace et le font vibrer. \n\n\n\nEntre jeu de corps et matières légères\, entre musique et grincements\, nous souhaitons partager avec le tout-petit la joie d’être tout simplement. \n\n\n\n \n\n\n\nDe la naissance à 4 ans3€ par personneRéservation fortement conseillée : 20 places uniquement.
URL:https://www.labellangerais.org/evenement/meraki/
ATTACH;FMTTYPE=image/jpeg:https://www.labellangerais.org/wp-content/uploads/2023/02/Meraki-ARTAMUSE-1er-mars-2023.jpg
END:VEVENT
END:VCALENDAR