BEGIN:VCALENDAR
VERSION:2.0
PRODID:-//Maison de Quartier La Bellangerais - ECPv6.15.20//NONSGML v1.0//EN
CALSCALE:GREGORIAN
METHOD:PUBLISH
X-WR-CALNAME:Maison de Quartier La Bellangerais
X-ORIGINAL-URL:https://www.labellangerais.org
X-WR-CALDESC:Évènements pour Maison de Quartier La Bellangerais
REFRESH-INTERVAL;VALUE=DURATION:PT1H
X-Robots-Tag:noindex
X-PUBLISHED-TTL:PT1H
BEGIN:VTIMEZONE
TZID:Europe/Paris
BEGIN:DAYLIGHT
TZOFFSETFROM:+0100
TZOFFSETTO:+0200
TZNAME:CEST
DTSTART:20220327T010000
END:DAYLIGHT
BEGIN:STANDARD
TZOFFSETFROM:+0200
TZOFFSETTO:+0100
TZNAME:CET
DTSTART:20221030T010000
END:STANDARD
BEGIN:DAYLIGHT
TZOFFSETFROM:+0100
TZOFFSETTO:+0200
TZNAME:CEST
DTSTART:20230326T010000
END:DAYLIGHT
BEGIN:STANDARD
TZOFFSETFROM:+0200
TZOFFSETTO:+0100
TZNAME:CET
DTSTART:20231029T010000
END:STANDARD
BEGIN:DAYLIGHT
TZOFFSETFROM:+0100
TZOFFSETTO:+0200
TZNAME:CEST
DTSTART:20240331T010000
END:DAYLIGHT
BEGIN:STANDARD
TZOFFSETFROM:+0200
TZOFFSETTO:+0100
TZNAME:CET
DTSTART:20241027T010000
END:STANDARD
END:VTIMEZONE
BEGIN:VEVENT
DTSTART;TZID=Europe/Paris:20231220T163000
DTEND;TZID=Europe/Paris:20231220T170000
DTSTAMP:20260424T235947
CREATED:20231123T143001Z
LAST-MODIFIED:20231123T143456Z
UID:18983-1703089800-1703091600@www.labellangerais.org
SUMMARY:Spectacle "Jour de Clown" - Par la Compagine DeuFoiZin - Mercredi 20 Décembre 2023
DESCRIPTION:Je veux réserver mon billet !\n					\n					\n				\n								\n				\n					\n		\n					\n		\n				\n						\n					\n			\n									\n						\n				\n									  Les péripéties de deux clowns aux prises avec les exigences de la vie scolaire : ranger ses affaires\, se mettre en rang\, se laver les mains\, écouter/ lire une histoire\, partager les jeux à la récréation et…. attendre les parents ! Un spectacle où les enfants riront de leurs propres difficultés et où les adultes s’amuseront de situations maintes fois observées ! En pratique : mercredi 20 décembre 2023 à 16h30 / Durée 30 minutes / pour les enfants à partir de 3 ans / Gratuit / Réservation à l’accueil de la Maison de Quartier ou 02 99 27 21 10 Un gouter vous sera offert à l’issue du spectacle
URL:https://www.labellangerais.org/evenement/jour-de-clown-cie-deufoizin/
LOCATION:Maison de Quartier la Bellangerais\, 5 rue du Morbihan\, Rennes\, 35700
CATEGORIES:Jeunes publics,Spectacles
ATTACH;FMTTYPE=image/webp:https://www.labellangerais.org/wp-content/uploads/2023/11/Deufoizin.webp
END:VEVENT
END:VCALENDAR