BEGIN:VCALENDAR
VERSION:2.0
PRODID:-//Maison de Quartier La Bellangerais - ECPv6.15.20//NONSGML v1.0//EN
CALSCALE:GREGORIAN
METHOD:PUBLISH
X-WR-CALNAME:Maison de Quartier La Bellangerais
X-ORIGINAL-URL:https://www.labellangerais.org
X-WR-CALDESC:Évènements pour Maison de Quartier La Bellangerais
REFRESH-INTERVAL;VALUE=DURATION:PT1H
X-Robots-Tag:noindex
X-PUBLISHED-TTL:PT1H
BEGIN:VTIMEZONE
TZID:Europe/Paris
BEGIN:DAYLIGHT
TZOFFSETFROM:+0100
TZOFFSETTO:+0200
TZNAME:CEST
DTSTART:20220327T010000
END:DAYLIGHT
BEGIN:STANDARD
TZOFFSETFROM:+0200
TZOFFSETTO:+0100
TZNAME:CET
DTSTART:20221030T010000
END:STANDARD
BEGIN:DAYLIGHT
TZOFFSETFROM:+0100
TZOFFSETTO:+0200
TZNAME:CEST
DTSTART:20230326T010000
END:DAYLIGHT
BEGIN:STANDARD
TZOFFSETFROM:+0200
TZOFFSETTO:+0100
TZNAME:CET
DTSTART:20231029T010000
END:STANDARD
BEGIN:DAYLIGHT
TZOFFSETFROM:+0100
TZOFFSETTO:+0200
TZNAME:CEST
DTSTART:20240331T010000
END:DAYLIGHT
BEGIN:STANDARD
TZOFFSETFROM:+0200
TZOFFSETTO:+0100
TZNAME:CET
DTSTART:20241027T010000
END:STANDARD
END:VTIMEZONE
BEGIN:VEVENT
DTSTART;TZID=Europe/Paris:20230617T100000
DTEND;TZID=Europe/Paris:20230617T100000
DTSTAMP:20260425T122852
CREATED:20230619T131615Z
LAST-MODIFIED:20230619T131616Z
UID:17132-1686996000-1686996000@www.labellangerais.org
SUMMARY:Gala de danse 2023
DESCRIPTION:Comme tous les ans à la même époque\, nous sommes très contents de convier les familles à venir applaudir les danseurs et danseuses au gala de fin d’année. \n\n\n\nIl se déroulera le vendredi 16 et le samedi 17 juin 2023\, au Théâtre Lillico. \n\n\n\nLa centaine de danseurs sera répartie sur ces deux journées et sera rejointe par les élèves des cours de Hip-Hop le samedi matin et un petit groupe d’élèves de musique. \n\n\n\nPour assister au spectacle\, il faudra vous munir d’un billet aux tarifs suivants :– Gratuit pour les mineurs– 3€ pour les majeurs
URL:https://www.labellangerais.org/evenement/gala-de-danse-2023/
ATTACH;FMTTYPE=image/jpeg:https://www.labellangerais.org/wp-content/uploads/2023/06/Vignette-Gala-danse-2023.jpg
END:VEVENT
END:VCALENDAR