BEGIN:VCALENDAR
VERSION:2.0
PRODID:-//Maison de Quartier La Bellangerais - ECPv6.15.20//NONSGML v1.0//EN
CALSCALE:GREGORIAN
METHOD:PUBLISH
X-WR-CALNAME:Maison de Quartier La Bellangerais
X-ORIGINAL-URL:https://www.labellangerais.org
X-WR-CALDESC:Évènements pour Maison de Quartier La Bellangerais
REFRESH-INTERVAL;VALUE=DURATION:PT1H
X-Robots-Tag:noindex
X-PUBLISHED-TTL:PT1H
BEGIN:VTIMEZONE
TZID:Europe/Paris
BEGIN:DAYLIGHT
TZOFFSETFROM:+0100
TZOFFSETTO:+0200
TZNAME:CEST
DTSTART:20220327T010000
END:DAYLIGHT
BEGIN:STANDARD
TZOFFSETFROM:+0200
TZOFFSETTO:+0100
TZNAME:CET
DTSTART:20221030T010000
END:STANDARD
BEGIN:DAYLIGHT
TZOFFSETFROM:+0100
TZOFFSETTO:+0200
TZNAME:CEST
DTSTART:20230326T010000
END:DAYLIGHT
BEGIN:STANDARD
TZOFFSETFROM:+0200
TZOFFSETTO:+0100
TZNAME:CET
DTSTART:20231029T010000
END:STANDARD
BEGIN:DAYLIGHT
TZOFFSETFROM:+0100
TZOFFSETTO:+0200
TZNAME:CEST
DTSTART:20240331T010000
END:DAYLIGHT
BEGIN:STANDARD
TZOFFSETFROM:+0200
TZOFFSETTO:+0100
TZNAME:CET
DTSTART:20241027T010000
END:STANDARD
END:VTIMEZONE
BEGIN:VEVENT
DTSTART;TZID=Europe/Paris:20230317T180000
DTEND;TZID=Europe/Paris:20230317T180000
DTSTAMP:20260425T141133
CREATED:20230227T153935Z
LAST-MODIFIED:20230227T154216Z
UID:16110-1679076000-1679076000@www.labellangerais.org
SUMMARY:Fête du court 2023 - à partir de 12 ans
DESCRIPTION:Une fois n’est pas coutume\, la Maison de Quartier participe cette année à la Fête du court métrage avec une sélection pour les touts petits et les jeunes (les adultes sont les bienvenus évidemment !). \n\n\n\nVendredi 17 mars à 18 heures :Une sélection de courts métrages qui permet le débat. Portraits de femmes qui sortent du rang et qui par leurs choix éthiques\, politiques et professionnels\, font preuve d’audace\, d’indépendance et de liberté affirmées.  (Plus de 2 heures de courts métrages !) à partir de 12 ans.   \n\n\n\nCet évènement est gratuit\, sans réservation et ouvert à tous.
URL:https://www.labellangerais.org/evenement/fete-du-court-2023-3/
ATTACH;FMTTYPE=image/png:https://www.labellangerais.org/wp-content/uploads/2023/02/logo_FDC_RVB_2.png
END:VEVENT
END:VCALENDAR