BEGIN:VCALENDAR
VERSION:2.0
PRODID:-//Maison de Quartier La Bellangerais - ECPv6.15.20//NONSGML v1.0//EN
CALSCALE:GREGORIAN
METHOD:PUBLISH
X-WR-CALNAME:Maison de Quartier La Bellangerais
X-ORIGINAL-URL:https://www.labellangerais.org
X-WR-CALDESC:Évènements pour Maison de Quartier La Bellangerais
REFRESH-INTERVAL;VALUE=DURATION:PT1H
X-Robots-Tag:noindex
X-PUBLISHED-TTL:PT1H
BEGIN:VTIMEZONE
TZID:Europe/Paris
BEGIN:DAYLIGHT
TZOFFSETFROM:+0100
TZOFFSETTO:+0200
TZNAME:CEST
DTSTART:20220327T010000
END:DAYLIGHT
BEGIN:STANDARD
TZOFFSETFROM:+0200
TZOFFSETTO:+0100
TZNAME:CET
DTSTART:20221030T010000
END:STANDARD
BEGIN:DAYLIGHT
TZOFFSETFROM:+0100
TZOFFSETTO:+0200
TZNAME:CEST
DTSTART:20230326T010000
END:DAYLIGHT
BEGIN:STANDARD
TZOFFSETFROM:+0200
TZOFFSETTO:+0100
TZNAME:CET
DTSTART:20231029T010000
END:STANDARD
BEGIN:DAYLIGHT
TZOFFSETFROM:+0100
TZOFFSETTO:+0200
TZNAME:CEST
DTSTART:20240331T010000
END:DAYLIGHT
BEGIN:STANDARD
TZOFFSETFROM:+0200
TZOFFSETTO:+0100
TZNAME:CET
DTSTART:20241027T010000
END:STANDARD
END:VTIMEZONE
BEGIN:VEVENT
DTSTART;VALUE=DATE:20231024
DTEND;VALUE=DATE:20231026
DTSTAMP:20260424T204510
CREATED:20231010T095835Z
LAST-MODIFIED:20231123T152926Z
UID:18536-1698105600-1698278399@www.labellangerais.org
SUMMARY:Festival Marmaille - Fenix Format A3
DESCRIPTION:Dans la cadre du Festival Marmaille la Maison de Quartier accueille les 24 et 25 Octobre 2023\, La compagnie « Diabolo menthe » et son spectacle Fénix- Format A3\, pour jeunes publics. \nMarmaille/ Marmaille en Fugue se tient du 28 au 25 octobre 2023\, à Rennes et sur le département d’Ille et Vilaine. L’occasion de venir découvrir des œuvres qui seront présentées pour la première fois au public\, tout comme des œuvres artistiques en diffusion. \nRetrouvez toute la programmation du festival sur le site du Théâtre Lillico.
URL:https://www.labellangerais.org/evenement/festival-marmaille-fenix-format-a3/
LOCATION:Maison de Quartier la Bellangerais\, 5 rue du Morbihan\, Rennes\, 35700
CATEGORIES:Jeunes publics,Spectacles
ATTACH;FMTTYPE=image/jpeg:https://www.labellangerais.org/wp-content/uploads/2023/10/Fenix_format_A3-e1696931955179.jpg
END:VEVENT
END:VCALENDAR