BEGIN:VCALENDAR
VERSION:2.0
PRODID:-//Maison de Quartier La Bellangerais - ECPv6.15.20//NONSGML v1.0//EN
CALSCALE:GREGORIAN
METHOD:PUBLISH
X-WR-CALNAME:Maison de Quartier La Bellangerais
X-ORIGINAL-URL:https://www.labellangerais.org
X-WR-CALDESC:Évènements pour Maison de Quartier La Bellangerais
REFRESH-INTERVAL;VALUE=DURATION:PT1H
X-Robots-Tag:noindex
X-PUBLISHED-TTL:PT1H
BEGIN:VTIMEZONE
TZID:Europe/Paris
BEGIN:DAYLIGHT
TZOFFSETFROM:+0100
TZOFFSETTO:+0200
TZNAME:CEST
DTSTART:20210328T010000
END:DAYLIGHT
BEGIN:STANDARD
TZOFFSETFROM:+0200
TZOFFSETTO:+0100
TZNAME:CET
DTSTART:20211031T010000
END:STANDARD
BEGIN:DAYLIGHT
TZOFFSETFROM:+0100
TZOFFSETTO:+0200
TZNAME:CEST
DTSTART:20220327T010000
END:DAYLIGHT
BEGIN:STANDARD
TZOFFSETFROM:+0200
TZOFFSETTO:+0100
TZNAME:CET
DTSTART:20221030T010000
END:STANDARD
BEGIN:DAYLIGHT
TZOFFSETFROM:+0100
TZOFFSETTO:+0200
TZNAME:CEST
DTSTART:20230326T010000
END:DAYLIGHT
BEGIN:STANDARD
TZOFFSETFROM:+0200
TZOFFSETTO:+0100
TZNAME:CET
DTSTART:20231029T010000
END:STANDARD
END:VTIMEZONE
BEGIN:VEVENT
DTSTART;TZID=Europe/Paris:20221003T080000
DTEND;TZID=Europe/Paris:20221023T170000
DTSTAMP:20260425T154627
CREATED:20220927T145457Z
LAST-MODIFIED:20220927T150548Z
UID:14873-1664784000-1666544400@www.labellangerais.org
SUMMARY:Exposition photos "Festival Habitants d'Ici et d'Ailleurs"
DESCRIPTION:Photo à l’Ouest présente la troisième édition de Habitants d’ici et d’ailleurs.Cet évènement photographique se déroule à Rennes et dans quelques communes environnantes (Acigné\, Thorigné Fouillard et Chantepie) entre le 4 et le 27 octobre 2022.La  Maison de Quartier accueillera l’exposition “RESIDENTS” du 3 au 23 octobre. \n\n\n\nThierry JERON a accompagné les résidents de l’EPHAD de Saint-Nicolas-du-Pelem\, pour composer des triptyques pleins de bienveillance.
URL:https://www.labellangerais.org/evenement/exposition-photos-festival-habitants-dici-et-dailleurs/
ATTACH;FMTTYPE=image/png:https://www.labellangerais.org/wp-content/uploads/2022/09/Habitants-dici-et-dailleurs-2022.png
END:VEVENT
END:VCALENDAR