BEGIN:VCALENDAR
VERSION:2.0
PRODID:-//Maison de Quartier La Bellangerais - ECPv6.15.20//NONSGML v1.0//EN
CALSCALE:GREGORIAN
METHOD:PUBLISH
X-WR-CALNAME:Maison de Quartier La Bellangerais
X-ORIGINAL-URL:https://www.labellangerais.org
X-WR-CALDESC:Évènements pour Maison de Quartier La Bellangerais
REFRESH-INTERVAL;VALUE=DURATION:PT1H
X-Robots-Tag:noindex
X-PUBLISHED-TTL:PT1H
BEGIN:VTIMEZONE
TZID:Europe/Paris
BEGIN:DAYLIGHT
TZOFFSETFROM:+0100
TZOFFSETTO:+0200
TZNAME:CEST
DTSTART:20220327T010000
END:DAYLIGHT
BEGIN:STANDARD
TZOFFSETFROM:+0200
TZOFFSETTO:+0100
TZNAME:CET
DTSTART:20221030T010000
END:STANDARD
BEGIN:DAYLIGHT
TZOFFSETFROM:+0100
TZOFFSETTO:+0200
TZNAME:CEST
DTSTART:20230326T010000
END:DAYLIGHT
BEGIN:STANDARD
TZOFFSETFROM:+0200
TZOFFSETTO:+0100
TZNAME:CET
DTSTART:20231029T010000
END:STANDARD
BEGIN:DAYLIGHT
TZOFFSETFROM:+0100
TZOFFSETTO:+0200
TZNAME:CEST
DTSTART:20240331T010000
END:DAYLIGHT
BEGIN:STANDARD
TZOFFSETFROM:+0200
TZOFFSETTO:+0100
TZNAME:CET
DTSTART:20241027T010000
END:STANDARD
END:VTIMEZONE
BEGIN:VEVENT
DTSTART;TZID=Europe/Paris:20230310T080000
DTEND;TZID=Europe/Paris:20230310T080000
DTSTAMP:20260425T141002
CREATED:20230303T111000Z
LAST-MODIFIED:20230306T173713Z
UID:16199-1678435200-1678435200@www.labellangerais.org
SUMMARY:Exposition Arts Plastiques
DESCRIPTION:Les élèves des cours d’Arts Plastiques de Delphine COMBATALADÈS présentent une exposition de quelques tableaux sur le thème de « VÉNUS ». \n\n\n\nLa Vénus est l’une des figures les plus intemporelles de l’histoire de l’art. Elle est aussi bien représentée sous forme de sculptures antiques que sur des peintures modernes. \n\n\n\nSi le symbolisme autour de Vénus remonte à la mythologie\, celui-ci a persisté à travers les années. Principalement connue pour être la déesse de la beauté\, elle est également celle de la séduction et de la fertilité. \n\n\n\nCes thèmes ont inspiré les artistes depuis des milliers d’années. \n\n\n\n Retrouvez\, dans chaque tableau\, tous les artistes qui nous ont inspiré pour créer nos œuvres. \n\n\n\nExposition jusqu’au 10 mars 2023.
URL:https://www.labellangerais.org/evenement/exposition-arts-plastiques/
LOCATION:Maison de Quartier la Bellangerais\, 5 rue du Morbihan\, Rennes\, 35700
ATTACH;FMTTYPE=image/jpeg:https://www.labellangerais.org/wp-content/uploads/2023/03/Venus.jpg
ORGANIZER;CN="MQB":MAILTO:contact@labellangerais.org
END:VEVENT
END:VCALENDAR