BEGIN:VCALENDAR
VERSION:2.0
PRODID:-//Maison de Quartier La Bellangerais - ECPv6.15.20//NONSGML v1.0//EN
CALSCALE:GREGORIAN
METHOD:PUBLISH
X-WR-CALNAME:Maison de Quartier La Bellangerais
X-ORIGINAL-URL:https://www.labellangerais.org
X-WR-CALDESC:Évènements pour Maison de Quartier La Bellangerais
REFRESH-INTERVAL;VALUE=DURATION:PT1H
X-Robots-Tag:noindex
X-PUBLISHED-TTL:PT1H
BEGIN:VTIMEZONE
TZID:Europe/Paris
BEGIN:DAYLIGHT
TZOFFSETFROM:+0100
TZOFFSETTO:+0200
TZNAME:CEST
DTSTART:20220327T010000
END:DAYLIGHT
BEGIN:STANDARD
TZOFFSETFROM:+0200
TZOFFSETTO:+0100
TZNAME:CET
DTSTART:20221030T010000
END:STANDARD
BEGIN:DAYLIGHT
TZOFFSETFROM:+0100
TZOFFSETTO:+0200
TZNAME:CEST
DTSTART:20230326T010000
END:DAYLIGHT
BEGIN:STANDARD
TZOFFSETFROM:+0200
TZOFFSETTO:+0100
TZNAME:CET
DTSTART:20231029T010000
END:STANDARD
BEGIN:DAYLIGHT
TZOFFSETFROM:+0100
TZOFFSETTO:+0200
TZNAME:CEST
DTSTART:20240331T010000
END:DAYLIGHT
BEGIN:STANDARD
TZOFFSETFROM:+0200
TZOFFSETTO:+0100
TZNAME:CET
DTSTART:20241027T010000
END:STANDARD
END:VTIMEZONE
BEGIN:VEVENT
DTSTART;TZID=Europe/Paris:20231114T180000
DTEND;TZID=Europe/Paris:20231114T180000
DTSTAMP:20260424T174223
CREATED:20231114T105358Z
LAST-MODIFIED:20231123T153154Z
UID:18886-1699984800-1699984800@www.labellangerais.org
SUMMARY:Conseil de Quartier - Présentation du Projet Plus Bellangerais
DESCRIPTION:Cette réunion du Conseil de Quartier est ouverte à tous sans inscription\nA l’ordre du jour : \n\nPrésentation du projet « Plus Bellangerais » de réaménagement des abords de la Maison de Quartier\, commencés le 6 novembre\nEvolution des modalités de collecte des déchets verts\nQuelles attentes pour les prochains conseils de quartier\nInformations divers et agenda de quartier
URL:https://www.labellangerais.org/evenement/conseil-de-quartier-plus-bellangerais/
LOCATION:Maison de Quartier la Bellangerais\, 5 rue du Morbihan\, Rennes\, 35700
ATTACH;FMTTYPE=image/png:https://www.labellangerais.org/wp-content/uploads/2023/11/Visuel-Conseil-de-Quartier.png
ORGANIZER;CN="DIrection de Quartier Nord-Est":MAILTO:dqne@villes-rennes.fr
END:VEVENT
END:VCALENDAR