BEGIN:VCALENDAR
VERSION:2.0
PRODID:-//Maison de Quartier La Bellangerais - ECPv6.15.20//NONSGML v1.0//EN
CALSCALE:GREGORIAN
METHOD:PUBLISH
X-WR-CALNAME:Maison de Quartier La Bellangerais
X-ORIGINAL-URL:https://www.labellangerais.org
X-WR-CALDESC:Évènements pour Maison de Quartier La Bellangerais
REFRESH-INTERVAL;VALUE=DURATION:PT1H
X-Robots-Tag:noindex
X-PUBLISHED-TTL:PT1H
BEGIN:VTIMEZONE
TZID:Europe/Paris
BEGIN:DAYLIGHT
TZOFFSETFROM:+0100
TZOFFSETTO:+0200
TZNAME:CEST
DTSTART:20230326T010000
END:DAYLIGHT
BEGIN:STANDARD
TZOFFSETFROM:+0200
TZOFFSETTO:+0100
TZNAME:CET
DTSTART:20231029T010000
END:STANDARD
BEGIN:DAYLIGHT
TZOFFSETFROM:+0100
TZOFFSETTO:+0200
TZNAME:CEST
DTSTART:20240331T010000
END:DAYLIGHT
BEGIN:STANDARD
TZOFFSETFROM:+0200
TZOFFSETTO:+0100
TZNAME:CET
DTSTART:20241027T010000
END:STANDARD
BEGIN:DAYLIGHT
TZOFFSETFROM:+0100
TZOFFSETTO:+0200
TZNAME:CEST
DTSTART:20250330T010000
END:DAYLIGHT
BEGIN:STANDARD
TZOFFSETFROM:+0200
TZOFFSETTO:+0100
TZNAME:CET
DTSTART:20251026T010000
END:STANDARD
END:VTIMEZONE
BEGIN:VEVENT
DTSTART;TZID=Europe/Paris:20240212T200000
DTEND;TZID=Europe/Paris:20240214T220000
DTSTAMP:20260425T014606
CREATED:20240118T114802Z
LAST-MODIFIED:20240118T141919Z
UID:19126-1707768000-1707948000@www.labellangerais.org
SUMMARY:Conférence « Faire la connaissance de son ado »
DESCRIPTION:Comprendre cette période de l’adolescence\, bien communiquer avec son ado… toutes les questions que vous vous posez sur cette période seront abordés lors de cette conférence. \nUn temps de questions réponses vous sera proposé. \nIntervenante : Monica MEJIA\, psychologue
URL:https://www.labellangerais.org/evenement/conference-faire-la-connaissance-de-son-ado/
LOCATION:Maison de Quartier la Bellangerais\, 5 rue du Morbihan\, Rennes\, 35700
CATEGORIES:Conférences
ATTACH;FMTTYPE=image/jpeg:https://www.labellangerais.org/wp-content/uploads/2024/01/8-Conference-Faire-la-connaissance-de-son-ado-.jpg
END:VEVENT
END:VCALENDAR