BEGIN:VCALENDAR
VERSION:2.0
PRODID:-//Maison de Quartier La Bellangerais - ECPv6.15.20//NONSGML v1.0//EN
CALSCALE:GREGORIAN
METHOD:PUBLISH
X-WR-CALNAME:Maison de Quartier La Bellangerais
X-ORIGINAL-URL:https://www.labellangerais.org
X-WR-CALDESC:Évènements pour Maison de Quartier La Bellangerais
REFRESH-INTERVAL;VALUE=DURATION:PT1H
X-Robots-Tag:noindex
X-PUBLISHED-TTL:PT1H
BEGIN:VTIMEZONE
TZID:Europe/Paris
BEGIN:DAYLIGHT
TZOFFSETFROM:+0100
TZOFFSETTO:+0200
TZNAME:CEST
DTSTART:20230326T010000
END:DAYLIGHT
BEGIN:STANDARD
TZOFFSETFROM:+0200
TZOFFSETTO:+0100
TZNAME:CET
DTSTART:20231029T010000
END:STANDARD
BEGIN:DAYLIGHT
TZOFFSETFROM:+0100
TZOFFSETTO:+0200
TZNAME:CEST
DTSTART:20240331T010000
END:DAYLIGHT
BEGIN:STANDARD
TZOFFSETFROM:+0200
TZOFFSETTO:+0100
TZNAME:CET
DTSTART:20241027T010000
END:STANDARD
BEGIN:DAYLIGHT
TZOFFSETFROM:+0100
TZOFFSETTO:+0200
TZNAME:CEST
DTSTART:20250330T010000
END:DAYLIGHT
BEGIN:STANDARD
TZOFFSETFROM:+0200
TZOFFSETTO:+0100
TZNAME:CET
DTSTART:20251026T010000
END:STANDARD
END:VTIMEZONE
BEGIN:VEVENT
DTSTART;VALUE=DATE:20240207
DTEND;VALUE=DATE:20240208
DTSTAMP:20260425T033946
CREATED:20240118T112954Z
LAST-MODIFIED:20240118T141201Z
UID:19111-1707264000-1707350399@www.labellangerais.org
SUMMARY:Atelier « Quels parents je veux être ? »
DESCRIPTION:Mercredi 7 février de 9h15 à 11h15 et de 18h à 20h \nDifficile de s’y retrouver dans tous les conseils et injonctions qu’on entend en tant que parent. \nEt puis entre le parent que l’on voulait être et la réalité du quotidien avec son ou ses enfants\, il y a parfois un grand écart. \nAlors comment être le parent que vous souhaitez être avec le plus de bienveillance possible pour vos enfants\, mais aussi pour vous-même ? \nDans cet atelier\, Delphine CANHOTO\, vous propose un temps d’information\, de réflexion et d’échanges autour de l’évolution de l’éducation\, les besoins fondamentaux de l’enfant\, l’empreinte de notre propre histoire et le poids de l’entourage\, à chacun sa parentalité\, le droit à l’erreur\, le parent parfait n’existe pas ! \n> Sur inscription / ouvert à tous les parents quel que soit l’âge \nNous pouvons garder vos enfants à partir de 4 ans\, pendant cet atelier et nous pouvons réchauffer un petit repas si vous le souhaitez aussi. Renseignement et inscription à l’accueil de la Maison de Quartier. \n> Intervenante : Delphine Canhoto\, éducatrice de jeunes enfants \n> Mercredi 7 février de 9h15 à 11h15 et de 18h à 20h
URL:https://www.labellangerais.org/evenement/atelier-quels-parents-je-veux-etre/
LOCATION:Maison de Quartier la Bellangerais\, 5 rue du Morbihan\, Rennes\, 35700
CATEGORIES:Ateliers
ATTACH;FMTTYPE=image/jpeg:https://www.labellangerais.org/wp-content/uploads/2024/01/5-Atelier-Quels-parents-je-veux-etre-Maison-de-quartier-La-Bellangerais.jpg
END:VEVENT
END:VCALENDAR