BEGIN:VCALENDAR
VERSION:2.0
PRODID:-//Maison de Quartier La Bellangerais - ECPv6.15.20//NONSGML v1.0//EN
CALSCALE:GREGORIAN
METHOD:PUBLISH
X-WR-CALNAME:Maison de Quartier La Bellangerais
X-ORIGINAL-URL:https://www.labellangerais.org
X-WR-CALDESC:Évènements pour Maison de Quartier La Bellangerais
REFRESH-INTERVAL;VALUE=DURATION:PT1H
X-Robots-Tag:noindex
X-PUBLISHED-TTL:PT1H
BEGIN:VTIMEZONE
TZID:Europe/Paris
BEGIN:DAYLIGHT
TZOFFSETFROM:+0100
TZOFFSETTO:+0200
TZNAME:CEST
DTSTART:20230326T010000
END:DAYLIGHT
BEGIN:STANDARD
TZOFFSETFROM:+0200
TZOFFSETTO:+0100
TZNAME:CET
DTSTART:20231029T010000
END:STANDARD
BEGIN:DAYLIGHT
TZOFFSETFROM:+0100
TZOFFSETTO:+0200
TZNAME:CEST
DTSTART:20240331T010000
END:DAYLIGHT
BEGIN:STANDARD
TZOFFSETFROM:+0200
TZOFFSETTO:+0100
TZNAME:CET
DTSTART:20241027T010000
END:STANDARD
BEGIN:DAYLIGHT
TZOFFSETFROM:+0100
TZOFFSETTO:+0200
TZNAME:CEST
DTSTART:20250330T010000
END:DAYLIGHT
BEGIN:STANDARD
TZOFFSETFROM:+0200
TZOFFSETTO:+0100
TZNAME:CET
DTSTART:20251026T010000
END:STANDARD
END:VTIMEZONE
BEGIN:VEVENT
DTSTART;TZID=Europe/Paris:20240626T143000
DTEND;TZID=Europe/Paris:20240626T163000
DTSTAMP:20260425T033935
CREATED:20240621T145007Z
LAST-MODIFIED:20240621T145007Z
UID:19967-1719412200-1719419400@www.labellangerais.org
SUMMARY:Atelier créatif et participatif enfants/ado/adultes
DESCRIPTION:Le Végétal s’invite dans l’espace publique devant ta Maison de Quartier !\nEn solo\, en duo ou en famille\, venez dessiner des motifs inspirés de la Nature (feuilles\, fleurs\, algues…) qui décoreront la future estrade et les bancs de la place de La Bellangerais !\nNous collecterons vos dessins qui seront retranscrits en pochoirs pour peindre sur les mobiliers de l’espace public le mercredi 3 juillet lors de la Fête de l’été de la MQB et l’inauguration de la place !
URL:https://www.labellangerais.org/evenement/atelier-creatif-et-participatif-enfants-ado-adultes/
LOCATION:Maison de Quartier la Bellangerais\, 5 rue du Morbihan\, Rennes\, 35700
CATEGORIES:Ateliers
END:VEVENT
END:VCALENDAR