BEGIN:VCALENDAR
VERSION:2.0
PRODID:-//Maison de Quartier La Bellangerais - ECPv6.15.20//NONSGML v1.0//EN
CALSCALE:GREGORIAN
METHOD:PUBLISH
X-WR-CALNAME:Maison de Quartier La Bellangerais
X-ORIGINAL-URL:https://www.labellangerais.org
X-WR-CALDESC:Évènements pour Maison de Quartier La Bellangerais
REFRESH-INTERVAL;VALUE=DURATION:PT1H
X-Robots-Tag:noindex
X-PUBLISHED-TTL:PT1H
BEGIN:VTIMEZONE
TZID:Europe/Paris
BEGIN:DAYLIGHT
TZOFFSETFROM:+0100
TZOFFSETTO:+0200
TZNAME:CEST
DTSTART:20220327T010000
END:DAYLIGHT
BEGIN:STANDARD
TZOFFSETFROM:+0200
TZOFFSETTO:+0100
TZNAME:CET
DTSTART:20221030T010000
END:STANDARD
BEGIN:DAYLIGHT
TZOFFSETFROM:+0100
TZOFFSETTO:+0200
TZNAME:CEST
DTSTART:20230326T010000
END:DAYLIGHT
BEGIN:STANDARD
TZOFFSETFROM:+0200
TZOFFSETTO:+0100
TZNAME:CET
DTSTART:20231029T010000
END:STANDARD
BEGIN:DAYLIGHT
TZOFFSETFROM:+0100
TZOFFSETTO:+0200
TZNAME:CEST
DTSTART:20240331T010000
END:DAYLIGHT
BEGIN:STANDARD
TZOFFSETFROM:+0200
TZOFFSETTO:+0100
TZNAME:CET
DTSTART:20241027T010000
END:STANDARD
END:VTIMEZONE
BEGIN:VEVENT
DTSTART;TZID=Europe/Paris:20231208T180000
DTEND;TZID=Europe/Paris:20231208T213000
DTSTAMP:20260424T235636
CREATED:20230119T162000Z
LAST-MODIFIED:20231123T150929Z
UID:15843-1702058400-1702071000@www.labellangerais.org
SUMMARY:Assemblée Générale 2023
DESCRIPTION:Télécharger le formulaire de pouvoir\n					\n					\n				\n								\n				\n					\n		\n				\n			\n						\n				\n									\n					\n						\n						\n							\n									S'inscrire à l'Assemblée Générale\n					\n					\n				\n								\n				\n					\n		\n					\n		\n				\n						\n					\n			\n									\n						\n				\n									 \n Carole AMARY\, Présidente de la Maison de Quartier La Bellangerais et son Conseil d’Administration ont le plaisir de vous inviter à l’Assemblée Générale de La Maison de Quartier La Bellangerais\, qui se déroulera le Vendredi 8 décembre à partir de 18h \nA l’ordre du jour: \n\nPrésentation et vote du rapport moral\nPrésentation et vote du rapport d’activité\nPrésentation et vote du rapport financier\nÉlection des membres du Conseil d’Administration.\n\nNous vous invitons à confirmer votre présence à l’adresse mail suivante: contact@labellangerais.org jusqu’au 3 décembre 2023. \nUn cocktail dinatoire suivra cette assemblée. \nSi vous ne pouvez pas être présent\, merci de remplir et nous transmettre votre pouvoir avant le 6 décembre à l’accueil de la maison de quartier\, voir les documents de délégation de pouvoir en pièce jointe. \nJe vous prie de croire\, Madame\, Monsieur en l’expression de nos sincères salutations. \nCarole Amary \nPrésidente de la Maison de quartier La Bellangerais. \n \n \n \n \n \n \n 								\n				\n					\n		\n					\n		\n				\n						\n					\n			\n						\n				\n									\n					\n						\n						\n							\n									Télécharger le formulaire de pouvoir\n					\n					\n				\n								\n				\n					\n		\n				\n			\n						\n				\n									\n					\n						\n						\n							\n									S'inscrire à l'Assemblée Générale
URL:https://www.labellangerais.org/evenement/assemblee-generale/
CATEGORIES:Conférences
ATTACH;FMTTYPE=image/png:https://www.labellangerais.org/wp-content/uploads/2022/11/Visuel-MQB-AG-2022-Version-fevrier-2023-e1696887776726.png
END:VEVENT
END:VCALENDAR