BEGIN:VCALENDAR
VERSION:2.0
PRODID:-//Maison de Quartier La Bellangerais - ECPv6.15.20//NONSGML v1.0//EN
CALSCALE:GREGORIAN
METHOD:PUBLISH
X-WR-CALNAME:Maison de Quartier La Bellangerais
X-ORIGINAL-URL:https://www.labellangerais.org
X-WR-CALDESC:Évènements pour Maison de Quartier La Bellangerais
REFRESH-INTERVAL;VALUE=DURATION:PT1H
X-Robots-Tag:noindex
X-PUBLISHED-TTL:PT1H
BEGIN:VTIMEZONE
TZID:Europe/Paris
BEGIN:DAYLIGHT
TZOFFSETFROM:+0100
TZOFFSETTO:+0200
TZNAME:CEST
DTSTART:20220327T010000
END:DAYLIGHT
BEGIN:STANDARD
TZOFFSETFROM:+0200
TZOFFSETTO:+0100
TZNAME:CET
DTSTART:20221030T010000
END:STANDARD
BEGIN:DAYLIGHT
TZOFFSETFROM:+0100
TZOFFSETTO:+0200
TZNAME:CEST
DTSTART:20230326T010000
END:DAYLIGHT
BEGIN:STANDARD
TZOFFSETFROM:+0200
TZOFFSETTO:+0100
TZNAME:CET
DTSTART:20231029T010000
END:STANDARD
BEGIN:DAYLIGHT
TZOFFSETFROM:+0100
TZOFFSETTO:+0200
TZNAME:CEST
DTSTART:20240331T010000
END:DAYLIGHT
BEGIN:STANDARD
TZOFFSETFROM:+0200
TZOFFSETTO:+0100
TZNAME:CET
DTSTART:20241027T010000
END:STANDARD
END:VTIMEZONE
BEGIN:VEVENT
DTSTART;TZID=Europe/Paris:20230312T100000
DTEND;TZID=Europe/Paris:20230312T100000
DTSTAMP:20260425T153322
CREATED:20230227T152747Z
LAST-MODIFIED:20230227T153031Z
UID:16097-1678615200-1678615200@www.labellangerais.org
SUMMARY:"Allo cosmos"
DESCRIPTION:Avec Allo Cosmos\, Marc de Blanchard et Fanny Paris livrent un spectacle étonnant : une science-fiction chorégraphiée\, mélange de danse\, de mapping vidéo\, de boucles électroniques et de sons synthétiques des années 80-90. \n\n\n\nSur scène\, le décor est posé : dans un petit laboratoire étrange\, on découvre deux scientifiques dont la mission principale sera de trouver une nouvelle planète habitable pour l’être humain. Au fil de leurs expériences et de leurs explorations qui les mèneront tout droit vers les étoiles\, se révèle un univers pop\, coloré et décalé\, peuplé d’animaux inconnus et de végétaux étranges… \n\n\n\nDe l’infiniment petit à l’infiniment grand\, c’est l’histoire d’une incroyable épopée cosmique… \n\n\n\nBilleterie en ligne sur le site de la  MJC du Grand Cordel
URL:https://www.labellangerais.org/evenement/allo-cosmos/
ATTACH;FMTTYPE=image/png:https://www.labellangerais.org/wp-content/uploads/2023/02/allo-cosmos-12-mars-2023.png
END:VEVENT
END:VCALENDAR