BEGIN:VCALENDAR
VERSION:2.0
PRODID:-//Maison de Quartier La Bellangerais - ECPv6.15.20//NONSGML v1.0//EN
CALSCALE:GREGORIAN
METHOD:PUBLISH
X-WR-CALNAME:Maison de Quartier La Bellangerais
X-ORIGINAL-URL:https://www.labellangerais.org
X-WR-CALDESC:Évènements pour Maison de Quartier La Bellangerais
REFRESH-INTERVAL;VALUE=DURATION:PT1H
X-Robots-Tag:noindex
X-PUBLISHED-TTL:PT1H
BEGIN:VTIMEZONE
TZID:Europe/Paris
BEGIN:DAYLIGHT
TZOFFSETFROM:+0100
TZOFFSETTO:+0200
TZNAME:CEST
DTSTART:20220327T010000
END:DAYLIGHT
BEGIN:STANDARD
TZOFFSETFROM:+0200
TZOFFSETTO:+0100
TZNAME:CET
DTSTART:20221030T010000
END:STANDARD
BEGIN:DAYLIGHT
TZOFFSETFROM:+0100
TZOFFSETTO:+0200
TZNAME:CEST
DTSTART:20230326T010000
END:DAYLIGHT
BEGIN:STANDARD
TZOFFSETFROM:+0200
TZOFFSETTO:+0100
TZNAME:CET
DTSTART:20231029T010000
END:STANDARD
BEGIN:DAYLIGHT
TZOFFSETFROM:+0100
TZOFFSETTO:+0200
TZNAME:CEST
DTSTART:20240331T010000
END:DAYLIGHT
BEGIN:STANDARD
TZOFFSETFROM:+0200
TZOFFSETTO:+0100
TZNAME:CET
DTSTART:20241027T010000
END:STANDARD
END:VTIMEZONE
BEGIN:VEVENT
DTSTART;TZID=Europe/Paris:20231102T140000
DTEND;TZID=Europe/Paris:20231103T160000
DTSTAMP:20260424T191450
CREATED:20231020T202033Z
LAST-MODIFIED:20231020T221425Z
UID:18720-1698933600-1699027200@www.labellangerais.org
SUMMARY:Junior Makers Vacances - Atelier Surprise pour les 8-14 ans
DESCRIPTION:Viens choisir le design pour ton objet personnalisé et utilise la découpeuse laser pour le fabriquer. L’atelier est ouvert au 8-14 ans.Adhésion et présence nécessaire pour les deux séances !
URL:https://www.labellangerais.org/evenement/2023-atelier-surprise-decoupe-laser-8-14ans/
LOCATION:Maison de Quartier la Bellangerais\, 5 rue du Morbihan\, Rennes\, 35700
CATEGORIES:Conférences,Espace Numérique,Jeunes publics
ATTACH;FMTTYPE=image/png:https://www.labellangerais.org/wp-content/uploads/2023/10/Visuel_JM_2023_Atelier_Surprise.png
ORGANIZER;CN="MQB":MAILTO:contact@labellangerais.org
END:VEVENT
END:VCALENDAR