BEGIN:VCALENDAR
VERSION:2.0
PRODID:-//Maison de Quartier La Bellangerais - ECPv6.15.20//NONSGML v1.0//EN
CALSCALE:GREGORIAN
METHOD:PUBLISH
X-WR-CALNAME:Maison de Quartier La Bellangerais
X-ORIGINAL-URL:https://www.labellangerais.org
X-WR-CALDESC:Évènements pour Maison de Quartier La Bellangerais
REFRESH-INTERVAL;VALUE=DURATION:PT1H
X-Robots-Tag:noindex
X-PUBLISHED-TTL:PT1H
BEGIN:VTIMEZONE
TZID:Europe/Paris
BEGIN:DAYLIGHT
TZOFFSETFROM:+0100
TZOFFSETTO:+0200
TZNAME:CEST
DTSTART:20220327T010000
END:DAYLIGHT
BEGIN:STANDARD
TZOFFSETFROM:+0200
TZOFFSETTO:+0100
TZNAME:CET
DTSTART:20221030T010000
END:STANDARD
BEGIN:DAYLIGHT
TZOFFSETFROM:+0100
TZOFFSETTO:+0200
TZNAME:CEST
DTSTART:20230326T010000
END:DAYLIGHT
BEGIN:STANDARD
TZOFFSETFROM:+0200
TZOFFSETTO:+0100
TZNAME:CET
DTSTART:20231029T010000
END:STANDARD
BEGIN:DAYLIGHT
TZOFFSETFROM:+0100
TZOFFSETTO:+0200
TZNAME:CEST
DTSTART:20240331T010000
END:DAYLIGHT
BEGIN:STANDARD
TZOFFSETFROM:+0200
TZOFFSETTO:+0100
TZNAME:CET
DTSTART:20241027T010000
END:STANDARD
END:VTIMEZONE
BEGIN:VEVENT
DTSTART;TZID=Europe/Paris:20231202T203000
DTEND;TZID=Europe/Paris:20231202T203000
DTSTAMP:20260424T235924
CREATED:20231123T134202Z
LAST-MODIFIED:20231123T141913Z
UID:18968-1701549000-1701549000@www.labellangerais.org
SUMMARY:Match Théâtre d'impro - La Turi vs La Ludi - Samedi 2 Décembre 2023
DESCRIPTION:Je veux réserver mon billet !\n					\n					\n				\n								\n				\n					\n		\n					\n		\n				\n						\n					\n			\n									\n						\n				\n									 \n« 👊 Vous n’en avez pas eu assez avec le premier match d’impro en octobre? Nous non plus! Alors on réitère! On invite les COPAINES de la LUDI de Poitiers pour une rencontre qui promet d’être MEMORABLE. C’est notre petit cadeau d’avant Noël! » \nLa Turi
URL:https://www.labellangerais.org/evenement/2023-12-02-impro-turi-vs-ludi/
LOCATION:Maison de Quartier la Bellangerais\, 5 rue du Morbihan\, Rennes\, 35700
CATEGORIES:Spectacles
ATTACH;FMTTYPE=image/jpeg:https://www.labellangerais.org/wp-content/uploads/2023/11/Visuel-turi-vs-ludi.jpg
ORGANIZER;CN="La Turi Ukwa":MAILTO:turi.ukwa@gmail.com
END:VEVENT
END:VCALENDAR